BEGIN:VCALENDAR
VERSION:2.0
PRODID:-//Yoga Highlands Studio - ECPv6.15.17.1//NONSGML v1.0//EN
CALSCALE:GREGORIAN
METHOD:PUBLISH
X-WR-CALNAME:Yoga Highlands Studio
X-ORIGINAL-URL:https://yogahighlands.com
X-WR-CALDESC:Events for Yoga Highlands Studio
REFRESH-INTERVAL;VALUE=DURATION:PT1H
X-Robots-Tag:noindex
X-PUBLISHED-TTL:PT1H
BEGIN:VTIMEZONE
TZID:America/New_York
BEGIN:DAYLIGHT
TZOFFSETFROM:-0500
TZOFFSETTO:-0400
TZNAME:EDT
DTSTART:20250309T070000
END:DAYLIGHT
BEGIN:STANDARD
TZOFFSETFROM:-0400
TZOFFSETTO:-0500
TZNAME:EST
DTSTART:20251102T060000
END:STANDARD
BEGIN:DAYLIGHT
TZOFFSETFROM:-0500
TZOFFSETTO:-0400
TZNAME:EDT
DTSTART:20260308T070000
END:DAYLIGHT
BEGIN:STANDARD
TZOFFSETFROM:-0400
TZOFFSETTO:-0500
TZNAME:EST
DTSTART:20261101T060000
END:STANDARD
BEGIN:DAYLIGHT
TZOFFSETFROM:-0500
TZOFFSETTO:-0400
TZNAME:EDT
DTSTART:20270314T070000
END:DAYLIGHT
BEGIN:STANDARD
TZOFFSETFROM:-0400
TZOFFSETTO:-0500
TZNAME:EST
DTSTART:20271107T060000
END:STANDARD
END:VTIMEZONE
BEGIN:VEVENT
DTSTART;TZID=America/New_York:20260424T090000
DTEND;TZID=America/New_York:20260424T101500
DTSTAMP:20260424T020230
CREATED:20260414T010804Z
LAST-MODIFIED:20260414T010805Z
UID:10002071-1777021200-1777025700@yogahighlands.com
SUMMARY:Nurture Move and Breathe w/ Ashby
DESCRIPTION:Expect flowing postures\, embodied breathwork\, and movement designed to release tension\, enhance self-awareness\, and restore balance. Whether you’re looking to build stability\, ease\, or a deeper sense of presence\, this class offers a supportive space to move\, feel\, and connect from within.
URL:https://yogahighlands.com/cal/vital-body-2023-05-26-9-8-4-3/2026-04-24/
LOCATION:Yoga Highlands Studio\, 460 Carolina Way\, Highlands\, NC\, 28741\, United States
CATEGORIES:Classes
END:VEVENT
END:VCALENDAR