BEGIN:VCALENDAR
VERSION:2.0
PRODID:-//Yoga Highlands Studio - ECPv6.15.17.1//NONSGML v1.0//EN
CALSCALE:GREGORIAN
METHOD:PUBLISH
X-ORIGINAL-URL:https://yogahighlands.com
X-WR-CALDESC:Events for Yoga Highlands Studio
REFRESH-INTERVAL;VALUE=DURATION:PT1H
X-Robots-Tag:noindex
X-PUBLISHED-TTL:PT1H
BEGIN:VTIMEZONE
TZID:America/New_York
BEGIN:DAYLIGHT
TZOFFSETFROM:-0500
TZOFFSETTO:-0400
TZNAME:EDT
DTSTART:20220313T070000
END:DAYLIGHT
BEGIN:STANDARD
TZOFFSETFROM:-0400
TZOFFSETTO:-0500
TZNAME:EST
DTSTART:20221106T060000
END:STANDARD
BEGIN:DAYLIGHT
TZOFFSETFROM:-0500
TZOFFSETTO:-0400
TZNAME:EDT
DTSTART:20230312T070000
END:DAYLIGHT
BEGIN:STANDARD
TZOFFSETFROM:-0400
TZOFFSETTO:-0500
TZNAME:EST
DTSTART:20231105T060000
END:STANDARD
BEGIN:DAYLIGHT
TZOFFSETFROM:-0500
TZOFFSETTO:-0400
TZNAME:EDT
DTSTART:20240310T070000
END:DAYLIGHT
BEGIN:STANDARD
TZOFFSETFROM:-0400
TZOFFSETTO:-0500
TZNAME:EST
DTSTART:20241103T060000
END:STANDARD
END:VTIMEZONE
BEGIN:VEVENT
DTSTART;TZID=America/New_York:20230602T090000
DTEND;TZID=America/New_York:20230602T101500
DTSTAMP:20260425T112150
CREATED:20220324T190141Z
LAST-MODIFIED:20230502T125718Z
UID:10001068-1685696400-1685700900@yogahighlands.com
SUMMARY:Vital Body Strength w/ Diane
DESCRIPTION:Build and discover your own personal strength and power. Choose to grow the energy needed to maintain wellness. We keep you in the moment with our on-point power flow.  Arrive to your weekend refreshed and living from your heart.
URL:https://yogahighlands.com/cal/vital-body/2023-06-02/
LOCATION:Yoga Highlands Studio\, 460 Carolina Way\, Highlands\, NC\, 28741\, United States
CATEGORIES:Classes
END:VEVENT
BEGIN:VEVENT
DTSTART;TZID=America/New_York:20230603T093000
DTEND;TZID=America/New_York:20230603T104500
DTSTAMP:20260425T112150
CREATED:20220324T192328Z
LAST-MODIFIED:20230327T192530Z
UID:10000917-1685784600-1685789100@yogahighlands.com
SUMMARY:Align + Flow All Levels Yoga w/ Ashby
DESCRIPTION:All bodies and body-types explore classical yoga through a series of postures which build strength and fluid movement. We will offer simple modifications to create an open and playful morning practice. Welcome All Levels. (Absolute Beginners: please see our Yoga 101 Foundations Course Offerings).
URL:https://yogahighlands.com/cal/align-flow-all-levels-yoga-w-chad-sub/2023-06-03/
LOCATION:Yoga Highlands Studio\, 460 Carolina Way\, Highlands\, NC\, 28741\, United States
CATEGORIES:Classes
END:VEVENT
BEGIN:VEVENT
DTSTART;TZID=America/New_York:20230605T090000
DTEND;TZID=America/New_York:20230605T100000
DTSTAMP:20260425T112150
CREATED:20220501T143659Z
LAST-MODIFIED:20230514T155044Z
UID:10000620-1685955600-1685959200@yogahighlands.com
SUMMARY:Basics & Beginners w/ Ashby
DESCRIPTION:This positive movement and breath practice is designed for the students in the room to achieve (1) Deeper breath capacity (2) Easy flowing postural balance.
URL:https://yogahighlands.com/cal/awaken-monday-w-ashby/2023-06-05/
LOCATION:NC
CATEGORIES:Classes
END:VEVENT
BEGIN:VEVENT
DTSTART;TZID=America/New_York:20230607T180000
DTEND;TZID=America/New_York:20230607T191500
DTSTAMP:20260425T112150
CREATED:20220329T175259Z
LAST-MODIFIED:20230606T114657Z
UID:10000834-1686160800-1686165300@yogahighlands.com
SUMMARY:Embodied Yoga w/ Rachel
DESCRIPTION:This class is a blend of classical\, steady posture (asana) and organic intuitive movement to aid you feeling more attuned to yourself and mentally refreshed and clear.  Discover the synergy of movement + guided deep rest practices.
URL:https://yogahighlands.com/cal/uptempo-yoga/2023-06-07/
LOCATION:NC
CATEGORIES:Classes
END:VEVENT
BEGIN:VEVENT
DTSTART;TZID=America/New_York:20230609T090000
DTEND;TZID=America/New_York:20230609T101500
DTSTAMP:20260425T112150
CREATED:20220324T190141Z
LAST-MODIFIED:20230502T125718Z
UID:10001069-1686301200-1686305700@yogahighlands.com
SUMMARY:Vital Body Strength w/ Diane
DESCRIPTION:Build and discover your own personal strength and power. Choose to grow the energy needed to maintain wellness. We keep you in the moment with our on-point power flow.  Arrive to your weekend refreshed and living from your heart.
URL:https://yogahighlands.com/cal/vital-body/2023-06-09/
LOCATION:Yoga Highlands Studio\, 460 Carolina Way\, Highlands\, NC\, 28741\, United States
CATEGORIES:Classes
END:VEVENT
BEGIN:VEVENT
DTSTART;TZID=America/New_York:20230610T093000
DTEND;TZID=America/New_York:20230610T104500
DTSTAMP:20260425T112150
CREATED:20220324T192328Z
LAST-MODIFIED:20230327T192530Z
UID:10000918-1686389400-1686393900@yogahighlands.com
SUMMARY:Align + Flow All Levels Yoga w/ Ashby
DESCRIPTION:All bodies and body-types explore classical yoga through a series of postures which build strength and fluid movement. We will offer simple modifications to create an open and playful morning practice. Welcome All Levels. (Absolute Beginners: please see our Yoga 101 Foundations Course Offerings).
URL:https://yogahighlands.com/cal/align-flow-all-levels-yoga-w-chad-sub/2023-06-10/
LOCATION:Yoga Highlands Studio\, 460 Carolina Way\, Highlands\, NC\, 28741\, United States
CATEGORIES:Classes
END:VEVENT
BEGIN:VEVENT
DTSTART;TZID=America/New_York:20230612T090000
DTEND;TZID=America/New_York:20230612T100000
DTSTAMP:20260425T112150
CREATED:20220501T143659Z
LAST-MODIFIED:20230514T155044Z
UID:10000621-1686560400-1686564000@yogahighlands.com
SUMMARY:Basics & Beginners w/ Ashby
DESCRIPTION:This positive movement and breath practice is designed for the students in the room to achieve (1) Deeper breath capacity (2) Easy flowing postural balance.
URL:https://yogahighlands.com/cal/awaken-monday-w-ashby/2023-06-12/
LOCATION:NC
CATEGORIES:Classes
END:VEVENT
BEGIN:VEVENT
DTSTART;TZID=America/New_York:20230614T180000
DTEND;TZID=America/New_York:20230614T191500
DTSTAMP:20260425T112150
CREATED:20220329T175259Z
LAST-MODIFIED:20230606T114657Z
UID:10000835-1686765600-1686770100@yogahighlands.com
SUMMARY:Embodied Yoga w/ Rachel
DESCRIPTION:This class is a blend of classical\, steady posture (asana) and organic intuitive movement to aid you feeling more attuned to yourself and mentally refreshed and clear.  Discover the synergy of movement + guided deep rest practices.
URL:https://yogahighlands.com/cal/uptempo-yoga/2023-06-14/
LOCATION:NC
CATEGORIES:Classes
END:VEVENT
BEGIN:VEVENT
DTSTART;TZID=America/New_York:20230616T090000
DTEND;TZID=America/New_York:20230616T101500
DTSTAMP:20260425T112150
CREATED:20220324T190141Z
LAST-MODIFIED:20230502T125718Z
UID:10001070-1686906000-1686910500@yogahighlands.com
SUMMARY:Vital Body Strength w/ Diane
DESCRIPTION:Build and discover your own personal strength and power. Choose to grow the energy needed to maintain wellness. We keep you in the moment with our on-point power flow.  Arrive to your weekend refreshed and living from your heart.
URL:https://yogahighlands.com/cal/vital-body/2023-06-16/
LOCATION:Yoga Highlands Studio\, 460 Carolina Way\, Highlands\, NC\, 28741\, United States
CATEGORIES:Classes
END:VEVENT
BEGIN:VEVENT
DTSTART;TZID=America/New_York:20230617T093000
DTEND;TZID=America/New_York:20230617T104500
DTSTAMP:20260425T112150
CREATED:20220324T192328Z
LAST-MODIFIED:20230327T192530Z
UID:10000919-1686994200-1686998700@yogahighlands.com
SUMMARY:Align + Flow All Levels Yoga w/ Ashby
DESCRIPTION:All bodies and body-types explore classical yoga through a series of postures which build strength and fluid movement. We will offer simple modifications to create an open and playful morning practice. Welcome All Levels. (Absolute Beginners: please see our Yoga 101 Foundations Course Offerings).
URL:https://yogahighlands.com/cal/align-flow-all-levels-yoga-w-chad-sub/2023-06-17/
LOCATION:Yoga Highlands Studio\, 460 Carolina Way\, Highlands\, NC\, 28741\, United States
CATEGORIES:Classes
END:VEVENT
BEGIN:VEVENT
DTSTART;TZID=America/New_York:20230619T090000
DTEND;TZID=America/New_York:20230619T100000
DTSTAMP:20260425T112150
CREATED:20220501T143659Z
LAST-MODIFIED:20230514T155044Z
UID:10000622-1687165200-1687168800@yogahighlands.com
SUMMARY:Basics & Beginners w/ Ashby
DESCRIPTION:This positive movement and breath practice is designed for the students in the room to achieve (1) Deeper breath capacity (2) Easy flowing postural balance.
URL:https://yogahighlands.com/cal/awaken-monday-w-ashby/2023-06-19/
LOCATION:NC
CATEGORIES:Classes
END:VEVENT
BEGIN:VEVENT
DTSTART;TZID=America/New_York:20230619T180000
DTEND;TZID=America/New_York:20230619T191500
DTSTAMP:20260425T112150
CREATED:20220904T192806Z
LAST-MODIFIED:20231015T153935Z
UID:10000949-1687197600-1687202100@yogahighlands.com
SUMMARY:Yin Yoga + Storytelling w/ Rose Mary
DESCRIPTION:Yin Yoga was founded on the theory of Yin and Yang – opposite concepts that together represent balance. Yin is stable and passive\, while Yang is changing and active. The yin poses\, therefore\, are passive and performed while seated or in a reclining position. The poses are held with the muscles fully relaxed\, allowing time and gravity to deepen the stretch and target the fascia. Rose Mary creates an inviting approach to be comfortable in each posture while enriching each class with poetry and prose.
URL:https://yogahighlands.com/cal/yin-yoga-w-rose-mary/2023-06-19/
LOCATION:Yoga Highlands Studio\, 460 Carolina Way\, Highlands\, NC\, 28741\, United States
CATEGORIES:Classes
END:VEVENT
BEGIN:VEVENT
DTSTART;TZID=America/New_York:20230623T090000
DTEND;TZID=America/New_York:20230623T101500
DTSTAMP:20260425T112150
CREATED:20220324T190141Z
LAST-MODIFIED:20230502T125718Z
UID:10001071-1687510800-1687515300@yogahighlands.com
SUMMARY:Vital Body Strength w/ Diane
DESCRIPTION:Build and discover your own personal strength and power. Choose to grow the energy needed to maintain wellness. We keep you in the moment with our on-point power flow.  Arrive to your weekend refreshed and living from your heart.
URL:https://yogahighlands.com/cal/vital-body/2023-06-23/
LOCATION:Yoga Highlands Studio\, 460 Carolina Way\, Highlands\, NC\, 28741\, United States
CATEGORIES:Classes
END:VEVENT
BEGIN:VEVENT
DTSTART;TZID=America/New_York:20230624T093000
DTEND;TZID=America/New_York:20230624T104500
DTSTAMP:20260425T112150
CREATED:20220324T192328Z
LAST-MODIFIED:20230327T192530Z
UID:10000920-1687599000-1687603500@yogahighlands.com
SUMMARY:Align + Flow All Levels Yoga w/ Ashby
DESCRIPTION:All bodies and body-types explore classical yoga through a series of postures which build strength and fluid movement. We will offer simple modifications to create an open and playful morning practice. Welcome All Levels. (Absolute Beginners: please see our Yoga 101 Foundations Course Offerings).
URL:https://yogahighlands.com/cal/align-flow-all-levels-yoga-w-chad-sub/2023-06-24/
LOCATION:Yoga Highlands Studio\, 460 Carolina Way\, Highlands\, NC\, 28741\, United States
CATEGORIES:Classes
END:VEVENT
BEGIN:VEVENT
DTSTART;TZID=America/New_York:20230626T090000
DTEND;TZID=America/New_York:20230626T100000
DTSTAMP:20260425T112150
CREATED:20220501T143659Z
LAST-MODIFIED:20230514T155044Z
UID:10000623-1687770000-1687773600@yogahighlands.com
SUMMARY:Basics & Beginners w/ Ashby
DESCRIPTION:This positive movement and breath practice is designed for the students in the room to achieve (1) Deeper breath capacity (2) Easy flowing postural balance.
URL:https://yogahighlands.com/cal/awaken-monday-w-ashby/2023-06-26/
LOCATION:NC
CATEGORIES:Classes
END:VEVENT
BEGIN:VEVENT
DTSTART;TZID=America/New_York:20230628T180000
DTEND;TZID=America/New_York:20230628T191500
DTSTAMP:20260425T112150
CREATED:20220329T175259Z
LAST-MODIFIED:20230606T114657Z
UID:10000836-1687975200-1687979700@yogahighlands.com
SUMMARY:Embodied Yoga w/ Rachel
DESCRIPTION:This class is a blend of classical\, steady posture (asana) and organic intuitive movement to aid you feeling more attuned to yourself and mentally refreshed and clear.  Discover the synergy of movement + guided deep rest practices.
URL:https://yogahighlands.com/cal/uptempo-yoga/2023-06-28/
LOCATION:NC
CATEGORIES:Classes
END:VEVENT
BEGIN:VEVENT
DTSTART;TZID=America/New_York:20230630T090000
DTEND;TZID=America/New_York:20230630T101500
DTSTAMP:20260425T112150
CREATED:20220324T190141Z
LAST-MODIFIED:20230502T125718Z
UID:10001072-1688115600-1688120100@yogahighlands.com
SUMMARY:Vital Body Strength w/ Diane
DESCRIPTION:Build and discover your own personal strength and power. Choose to grow the energy needed to maintain wellness. We keep you in the moment with our on-point power flow.  Arrive to your weekend refreshed and living from your heart.
URL:https://yogahighlands.com/cal/vital-body/2023-06-30/
LOCATION:Yoga Highlands Studio\, 460 Carolina Way\, Highlands\, NC\, 28741\, United States
CATEGORIES:Classes
END:VEVENT
END:VCALENDAR