BEGIN:VCALENDAR
VERSION:2.0
PRODID:-//Yoga Highlands Studio - ECPv6.15.17.1//NONSGML v1.0//EN
CALSCALE:GREGORIAN
METHOD:PUBLISH
X-WR-CALNAME:Yoga Highlands Studio
X-ORIGINAL-URL:https://yogahighlands.com
X-WR-CALDESC:Events for Yoga Highlands Studio
REFRESH-INTERVAL;VALUE=DURATION:PT1H
X-Robots-Tag:noindex
X-PUBLISHED-TTL:PT1H
BEGIN:VTIMEZONE
TZID:America/New_York
BEGIN:DAYLIGHT
TZOFFSETFROM:-0500
TZOFFSETTO:-0400
TZNAME:EDT
DTSTART:20250309T070000
END:DAYLIGHT
BEGIN:STANDARD
TZOFFSETFROM:-0400
TZOFFSETTO:-0500
TZNAME:EST
DTSTART:20251102T060000
END:STANDARD
BEGIN:DAYLIGHT
TZOFFSETFROM:-0500
TZOFFSETTO:-0400
TZNAME:EDT
DTSTART:20260308T070000
END:DAYLIGHT
BEGIN:STANDARD
TZOFFSETFROM:-0400
TZOFFSETTO:-0500
TZNAME:EST
DTSTART:20261101T060000
END:STANDARD
BEGIN:DAYLIGHT
TZOFFSETFROM:-0500
TZOFFSETTO:-0400
TZNAME:EDT
DTSTART:20270314T070000
END:DAYLIGHT
BEGIN:STANDARD
TZOFFSETFROM:-0400
TZOFFSETTO:-0500
TZNAME:EST
DTSTART:20271107T060000
END:STANDARD
END:VTIMEZONE
BEGIN:VEVENT
DTSTART;TZID=America/New_York:20260701T090000
DTEND;TZID=America/New_York:20260701T101500
DTSTAMP:20260423T143746
CREATED:20230825T134530Z
LAST-MODIFIED:20230825T135535Z
UID:10001243-1782896400-1782900900@yogahighlands.com
SUMMARY:Pilates Mat Foundations w/ Ashby
DESCRIPTION:Pilates focuses on engaging the mind and body together to create exercises that involves the whole person. Pilates strengthens the core\, improves balance\, increases coordination and decreases stress. In this Foundations class we will journey through the body from bottom to top\, front to back\, and center to periphery to ignite graceful\, efficient movement off the mat and into your daily life.
URL:https://yogahighlands.com/cal/pilates-mat-2/2026-07-01/
LOCATION:NC
CATEGORIES:Classes
END:VEVENT
BEGIN:VEVENT
DTSTART;TZID=America/New_York:20260702T100000
DTEND;TZID=America/New_York:20260702T111500
DTSTAMP:20260423T143746
CREATED:20231109T121933Z
LAST-MODIFIED:20231218T213521Z
UID:10002366-1782986400-1782990900@yogahighlands.com
SUMMARY:Slow Flow Yoga w/ Rose Mary
DESCRIPTION:In our fast-paced society we can become accustomed to our sense of urgency. Give yourself the gift of slowing down. Slow Flow is an easy paced class suitable for all levels of yoga experience. Mindfully moving and breathing\, you’ll find strength and steadiness in the body and mind. We will focus on seated and standing yoga postures and refrain from wrist bearing postures.
URL:https://yogahighlands.com/cal/slow-flow-yoga-2023-02-02-2/2026-07-02/
LOCATION:Yoga Highlands Studio\, 460 Carolina Way\, Highlands\, NC\, 28741\, United States
CATEGORIES:Classes
END:VEVENT
BEGIN:VEVENT
DTSTART;TZID=America/New_York:20260703T090000
DTEND;TZID=America/New_York:20260703T101500
DTSTAMP:20260423T143746
CREATED:20260414T011736Z
LAST-MODIFIED:20260414T011736Z
UID:10002081-1783069200-1783073700@yogahighlands.com
SUMMARY:Nurture Move and Breathe w/ Ashby
DESCRIPTION:Expect flowing postures\, embodied breathwork\, and movement designed to release tension\, enhance self-awareness\, and restore balance. Whether you’re looking to build stability\, ease\, or a deeper sense of presence\, this class offers a supportive space to move\, feel\, and connect from within.
URL:https://yogahighlands.com/cal/vital-body-2023-05-26-9-8-4-3-2/2026-07-03/
LOCATION:Yoga Highlands Studio\, 460 Carolina Way\, Highlands\, NC\, 28741\, United States
CATEGORIES:Classes
END:VEVENT
BEGIN:VEVENT
DTSTART;TZID=America/New_York:20260703T100000
DTEND;TZID=America/New_York:20260703T110000
DTSTAMP:20260423T143746
CREATED:20260414T001011Z
LAST-MODIFIED:20260414T010936Z
UID:10003634-1783072800-1783076400@yogahighlands.com
SUMMARY:Align & Stretch w/ Diane
DESCRIPTION:Align and Stretch is a feel-good yoga class focused on improving posture\, increasing flexibility\, and easing tension.\nSuitable for all levels-come as you are and leave refreshed.
URL:https://yogahighlands.com/cal/align-stretch-w-diane/2026-07-03/
LOCATION:Yoga Highlands Studio\, 460 Carolina Way\, Highlands\, NC\, 28741\, United States
CATEGORIES:Classes
END:VEVENT
BEGIN:VEVENT
DTSTART;TZID=America/New_York:20260704T093000
DTEND;TZID=America/New_York:20260704T104500
DTSTAMP:20260423T143746
CREATED:20231021T120939Z
LAST-MODIFIED:20231030T004827Z
UID:10001559-1783157400-1783161900@yogahighlands.com
SUMMARY:Align + Flow All Levels Yoga w/ Ashby
DESCRIPTION:All bodies and body-types explore classical yoga through a series of postures which build strength and fluid movement. We will offer simple modifications to create an open and playful morning practice. Welcome All Levels. (Absolute Beginners: please see our Yoga 101 Foundations Course Offerings).
URL:https://yogahighlands.com/cal/align-flow-all-levels-yoga/2026-07-04/
LOCATION:Yoga Highlands Studio\, 460 Carolina Way\, Highlands\, NC\, 28741\, United States
CATEGORIES:Classes
END:VEVENT
BEGIN:VEVENT
DTSTART;TZID=America/New_York:20260706T090000
DTEND;TZID=America/New_York:20260706T100000
DTSTAMP:20260423T143746
CREATED:20240818T124327Z
LAST-MODIFIED:20240818T124327Z
UID:10002773-1783328400-1783332000@yogahighlands.com
SUMMARY:Yoga Foundations/ Basics w/ Ashby
DESCRIPTION:This positive movement and breath practice is designed for the students in the room to achieve (1) Deeper breath capacity (2) Easy flowing postural balance.
URL:https://yogahighlands.com/cal/yoga-foundations-basics-w-ashby/2026-07-06/
LOCATION:Yoga Highlands Studio\, 460 Carolina Way\, Highlands\, NC\, 28741\, United States
CATEGORIES:Classes
END:VEVENT
BEGIN:VEVENT
DTSTART;TZID=America/New_York:20260706T180000
DTEND;TZID=America/New_York:20260706T191500
DTSTAMP:20260423T143746
CREATED:20250225T172331Z
LAST-MODIFIED:20250225T172331Z
UID:10003201-1783360800-1783365300@yogahighlands.com
SUMMARY:Restorative Yoga + Sound Bath w/ Rose Mary
DESCRIPTION:In this class we will use all props and bolsters available to support your body into a rest state in each of the postures presented. This form of yoga calms nervous tension and promotes deeper sleep (hence our practice in the evening!).\nRose Mary has studied with Judith Lasater\, a senior teacher of Restorative Yoga. A South Bath is the use of crystal bowls and harmonizing sound to focus your mind into a journey state assisting your relaxation and comfort.
URL:https://yogahighlands.com/cal/restorative-yoga-sound-bath-w-rose-mary-3-2/2026-07-06/
LOCATION:Yoga Highlands Studio\, 460 Carolina Way\, Highlands\, NC\, 28741\, United States
CATEGORIES:Classes
END:VEVENT
BEGIN:VEVENT
DTSTART;TZID=America/New_York:20260708T090000
DTEND;TZID=America/New_York:20260708T101500
DTSTAMP:20260423T143746
CREATED:20230825T134530Z
LAST-MODIFIED:20230825T135535Z
UID:10001244-1783501200-1783505700@yogahighlands.com
SUMMARY:Pilates Mat Foundations w/ Ashby
DESCRIPTION:Pilates focuses on engaging the mind and body together to create exercises that involves the whole person. Pilates strengthens the core\, improves balance\, increases coordination and decreases stress. In this Foundations class we will journey through the body from bottom to top\, front to back\, and center to periphery to ignite graceful\, efficient movement off the mat and into your daily life.
URL:https://yogahighlands.com/cal/pilates-mat-2/2026-07-08/
LOCATION:NC
CATEGORIES:Classes
END:VEVENT
BEGIN:VEVENT
DTSTART;TZID=America/New_York:20260709T100000
DTEND;TZID=America/New_York:20260709T111500
DTSTAMP:20260423T143746
CREATED:20231109T121933Z
LAST-MODIFIED:20231218T213521Z
UID:10002367-1783591200-1783595700@yogahighlands.com
SUMMARY:Slow Flow Yoga w/ Rose Mary
DESCRIPTION:In our fast-paced society we can become accustomed to our sense of urgency. Give yourself the gift of slowing down. Slow Flow is an easy paced class suitable for all levels of yoga experience. Mindfully moving and breathing\, you’ll find strength and steadiness in the body and mind. We will focus on seated and standing yoga postures and refrain from wrist bearing postures.
URL:https://yogahighlands.com/cal/slow-flow-yoga-2023-02-02-2/2026-07-09/
LOCATION:Yoga Highlands Studio\, 460 Carolina Way\, Highlands\, NC\, 28741\, United States
CATEGORIES:Classes
END:VEVENT
BEGIN:VEVENT
DTSTART;TZID=America/New_York:20260710T090000
DTEND;TZID=America/New_York:20260710T101500
DTSTAMP:20260423T143746
CREATED:20260414T011736Z
LAST-MODIFIED:20260414T011736Z
UID:10002082-1783674000-1783678500@yogahighlands.com
SUMMARY:Nurture Move and Breathe w/ Ashby
DESCRIPTION:Expect flowing postures\, embodied breathwork\, and movement designed to release tension\, enhance self-awareness\, and restore balance. Whether you’re looking to build stability\, ease\, or a deeper sense of presence\, this class offers a supportive space to move\, feel\, and connect from within.
URL:https://yogahighlands.com/cal/vital-body-2023-05-26-9-8-4-3-2/2026-07-10/
LOCATION:Yoga Highlands Studio\, 460 Carolina Way\, Highlands\, NC\, 28741\, United States
CATEGORIES:Classes
END:VEVENT
BEGIN:VEVENT
DTSTART;TZID=America/New_York:20260710T100000
DTEND;TZID=America/New_York:20260710T110000
DTSTAMP:20260423T143746
CREATED:20260414T001011Z
LAST-MODIFIED:20260414T010936Z
UID:10003635-1783677600-1783681200@yogahighlands.com
SUMMARY:Align & Stretch w/ Diane
DESCRIPTION:Align and Stretch is a feel-good yoga class focused on improving posture\, increasing flexibility\, and easing tension.\nSuitable for all levels-come as you are and leave refreshed.
URL:https://yogahighlands.com/cal/align-stretch-w-diane/2026-07-10/
LOCATION:Yoga Highlands Studio\, 460 Carolina Way\, Highlands\, NC\, 28741\, United States
CATEGORIES:Classes
END:VEVENT
BEGIN:VEVENT
DTSTART;TZID=America/New_York:20260711T093000
DTEND;TZID=America/New_York:20260711T104500
DTSTAMP:20260423T143746
CREATED:20231021T120939Z
LAST-MODIFIED:20231030T004827Z
UID:10001560-1783762200-1783766700@yogahighlands.com
SUMMARY:Align + Flow All Levels Yoga w/ Ashby
DESCRIPTION:All bodies and body-types explore classical yoga through a series of postures which build strength and fluid movement. We will offer simple modifications to create an open and playful morning practice. Welcome All Levels. (Absolute Beginners: please see our Yoga 101 Foundations Course Offerings).
URL:https://yogahighlands.com/cal/align-flow-all-levels-yoga/2026-07-11/
LOCATION:Yoga Highlands Studio\, 460 Carolina Way\, Highlands\, NC\, 28741\, United States
CATEGORIES:Classes
END:VEVENT
BEGIN:VEVENT
DTSTART;TZID=America/New_York:20260713T090000
DTEND;TZID=America/New_York:20260713T100000
DTSTAMP:20260423T143746
CREATED:20240818T124327Z
LAST-MODIFIED:20240818T124327Z
UID:10002774-1783933200-1783936800@yogahighlands.com
SUMMARY:Yoga Foundations/ Basics w/ Ashby
DESCRIPTION:This positive movement and breath practice is designed for the students in the room to achieve (1) Deeper breath capacity (2) Easy flowing postural balance.
URL:https://yogahighlands.com/cal/yoga-foundations-basics-w-ashby/2026-07-13/
LOCATION:Yoga Highlands Studio\, 460 Carolina Way\, Highlands\, NC\, 28741\, United States
CATEGORIES:Classes
END:VEVENT
BEGIN:VEVENT
DTSTART;TZID=America/New_York:20260715T090000
DTEND;TZID=America/New_York:20260715T101500
DTSTAMP:20260423T143746
CREATED:20230825T134530Z
LAST-MODIFIED:20230825T135535Z
UID:10001245-1784106000-1784110500@yogahighlands.com
SUMMARY:Pilates Mat Foundations w/ Ashby
DESCRIPTION:Pilates focuses on engaging the mind and body together to create exercises that involves the whole person. Pilates strengthens the core\, improves balance\, increases coordination and decreases stress. In this Foundations class we will journey through the body from bottom to top\, front to back\, and center to periphery to ignite graceful\, efficient movement off the mat and into your daily life.
URL:https://yogahighlands.com/cal/pilates-mat-2/2026-07-15/
LOCATION:NC
CATEGORIES:Classes
END:VEVENT
BEGIN:VEVENT
DTSTART;TZID=America/New_York:20260716T100000
DTEND;TZID=America/New_York:20260716T111500
DTSTAMP:20260423T143746
CREATED:20231109T121933Z
LAST-MODIFIED:20231218T213521Z
UID:10002368-1784196000-1784200500@yogahighlands.com
SUMMARY:Slow Flow Yoga w/ Rose Mary
DESCRIPTION:In our fast-paced society we can become accustomed to our sense of urgency. Give yourself the gift of slowing down. Slow Flow is an easy paced class suitable for all levels of yoga experience. Mindfully moving and breathing\, you’ll find strength and steadiness in the body and mind. We will focus on seated and standing yoga postures and refrain from wrist bearing postures.
URL:https://yogahighlands.com/cal/slow-flow-yoga-2023-02-02-2/2026-07-16/
LOCATION:Yoga Highlands Studio\, 460 Carolina Way\, Highlands\, NC\, 28741\, United States
CATEGORIES:Classes
END:VEVENT
BEGIN:VEVENT
DTSTART;TZID=America/New_York:20260717T090000
DTEND;TZID=America/New_York:20260717T101500
DTSTAMP:20260423T143746
CREATED:20260414T011736Z
LAST-MODIFIED:20260414T011736Z
UID:10002083-1784278800-1784283300@yogahighlands.com
SUMMARY:Nurture Move and Breathe w/ Ashby
DESCRIPTION:Expect flowing postures\, embodied breathwork\, and movement designed to release tension\, enhance self-awareness\, and restore balance. Whether you’re looking to build stability\, ease\, or a deeper sense of presence\, this class offers a supportive space to move\, feel\, and connect from within.
URL:https://yogahighlands.com/cal/vital-body-2023-05-26-9-8-4-3-2/2026-07-17/
LOCATION:Yoga Highlands Studio\, 460 Carolina Way\, Highlands\, NC\, 28741\, United States
CATEGORIES:Classes
END:VEVENT
BEGIN:VEVENT
DTSTART;TZID=America/New_York:20260717T100000
DTEND;TZID=America/New_York:20260717T110000
DTSTAMP:20260423T143746
CREATED:20260414T001011Z
LAST-MODIFIED:20260414T010936Z
UID:10003636-1784282400-1784286000@yogahighlands.com
SUMMARY:Align & Stretch w/ Diane
DESCRIPTION:Align and Stretch is a feel-good yoga class focused on improving posture\, increasing flexibility\, and easing tension.\nSuitable for all levels-come as you are and leave refreshed.
URL:https://yogahighlands.com/cal/align-stretch-w-diane/2026-07-17/
LOCATION:Yoga Highlands Studio\, 460 Carolina Way\, Highlands\, NC\, 28741\, United States
CATEGORIES:Classes
END:VEVENT
BEGIN:VEVENT
DTSTART;TZID=America/New_York:20260718T093000
DTEND;TZID=America/New_York:20260718T104500
DTSTAMP:20260423T143746
CREATED:20231021T120939Z
LAST-MODIFIED:20231030T004827Z
UID:10001561-1784367000-1784371500@yogahighlands.com
SUMMARY:Align + Flow All Levels Yoga w/ Ashby
DESCRIPTION:All bodies and body-types explore classical yoga through a series of postures which build strength and fluid movement. We will offer simple modifications to create an open and playful morning practice. Welcome All Levels. (Absolute Beginners: please see our Yoga 101 Foundations Course Offerings).
URL:https://yogahighlands.com/cal/align-flow-all-levels-yoga/2026-07-18/
LOCATION:Yoga Highlands Studio\, 460 Carolina Way\, Highlands\, NC\, 28741\, United States
CATEGORIES:Classes
END:VEVENT
BEGIN:VEVENT
DTSTART;TZID=America/New_York:20260720T090000
DTEND;TZID=America/New_York:20260720T100000
DTSTAMP:20260423T143746
CREATED:20240818T124327Z
LAST-MODIFIED:20240818T124327Z
UID:10002775-1784538000-1784541600@yogahighlands.com
SUMMARY:Yoga Foundations/ Basics w/ Ashby
DESCRIPTION:This positive movement and breath practice is designed for the students in the room to achieve (1) Deeper breath capacity (2) Easy flowing postural balance.
URL:https://yogahighlands.com/cal/yoga-foundations-basics-w-ashby/2026-07-20/
LOCATION:Yoga Highlands Studio\, 460 Carolina Way\, Highlands\, NC\, 28741\, United States
CATEGORIES:Classes
END:VEVENT
BEGIN:VEVENT
DTSTART;TZID=America/New_York:20260720T180000
DTEND;TZID=America/New_York:20260720T191500
DTSTAMP:20260423T143746
CREATED:20231117T123130Z
LAST-MODIFIED:20231218T213724Z
UID:10002526-1784570400-1784574900@yogahighlands.com
SUMMARY:Yin Yoga + Storytelling w/ Rose Mary
DESCRIPTION:Yin Yoga was founded on the theory of Yin and Yang – opposite concepts that together represent balance. Yin is stable and passive\, while Yang is changing and active. The yin poses\, therefore\, are passive and performed while seated or in a reclining position. The poses are held with the muscles fully relaxed\, allowing time and gravity to deepen the stretch and release the fascia tissues. Rose Mary creates an inviting approach to be comfortable in each posture while enriching each class with poetry and prose.
URL:https://yogahighlands.com/cal/yin-yoga-w-rose-mary-2/2026-07-20/
LOCATION:Yoga Highlands Studio\, 460 Carolina Way\, Highlands\, NC\, 28741\, United States
CATEGORIES:Classes
END:VEVENT
BEGIN:VEVENT
DTSTART;TZID=America/New_York:20260722T090000
DTEND;TZID=America/New_York:20260722T101500
DTSTAMP:20260423T143746
CREATED:20230825T134530Z
LAST-MODIFIED:20230825T135535Z
UID:10001246-1784710800-1784715300@yogahighlands.com
SUMMARY:Pilates Mat Foundations w/ Ashby
DESCRIPTION:Pilates focuses on engaging the mind and body together to create exercises that involves the whole person. Pilates strengthens the core\, improves balance\, increases coordination and decreases stress. In this Foundations class we will journey through the body from bottom to top\, front to back\, and center to periphery to ignite graceful\, efficient movement off the mat and into your daily life.
URL:https://yogahighlands.com/cal/pilates-mat-2/2026-07-22/
LOCATION:NC
CATEGORIES:Classes
END:VEVENT
BEGIN:VEVENT
DTSTART;TZID=America/New_York:20260723T100000
DTEND;TZID=America/New_York:20260723T111500
DTSTAMP:20260423T143746
CREATED:20231109T121933Z
LAST-MODIFIED:20231218T213521Z
UID:10002369-1784800800-1784805300@yogahighlands.com
SUMMARY:Slow Flow Yoga w/ Rose Mary
DESCRIPTION:In our fast-paced society we can become accustomed to our sense of urgency. Give yourself the gift of slowing down. Slow Flow is an easy paced class suitable for all levels of yoga experience. Mindfully moving and breathing\, you’ll find strength and steadiness in the body and mind. We will focus on seated and standing yoga postures and refrain from wrist bearing postures.
URL:https://yogahighlands.com/cal/slow-flow-yoga-2023-02-02-2/2026-07-23/
LOCATION:Yoga Highlands Studio\, 460 Carolina Way\, Highlands\, NC\, 28741\, United States
CATEGORIES:Classes
END:VEVENT
BEGIN:VEVENT
DTSTART;TZID=America/New_York:20260724T090000
DTEND;TZID=America/New_York:20260724T101500
DTSTAMP:20260423T143746
CREATED:20260414T011736Z
LAST-MODIFIED:20260414T011736Z
UID:10002084-1784883600-1784888100@yogahighlands.com
SUMMARY:Nurture Move and Breathe w/ Ashby
DESCRIPTION:Expect flowing postures\, embodied breathwork\, and movement designed to release tension\, enhance self-awareness\, and restore balance. Whether you’re looking to build stability\, ease\, or a deeper sense of presence\, this class offers a supportive space to move\, feel\, and connect from within.
URL:https://yogahighlands.com/cal/vital-body-2023-05-26-9-8-4-3-2/2026-07-24/
LOCATION:Yoga Highlands Studio\, 460 Carolina Way\, Highlands\, NC\, 28741\, United States
CATEGORIES:Classes
END:VEVENT
BEGIN:VEVENT
DTSTART;TZID=America/New_York:20260724T100000
DTEND;TZID=America/New_York:20260724T110000
DTSTAMP:20260423T143746
CREATED:20260414T001011Z
LAST-MODIFIED:20260414T010936Z
UID:10003637-1784887200-1784890800@yogahighlands.com
SUMMARY:Align & Stretch w/ Diane
DESCRIPTION:Align and Stretch is a feel-good yoga class focused on improving posture\, increasing flexibility\, and easing tension.\nSuitable for all levels-come as you are and leave refreshed.
URL:https://yogahighlands.com/cal/align-stretch-w-diane/2026-07-24/
LOCATION:Yoga Highlands Studio\, 460 Carolina Way\, Highlands\, NC\, 28741\, United States
CATEGORIES:Classes
END:VEVENT
BEGIN:VEVENT
DTSTART;TZID=America/New_York:20260725T093000
DTEND;TZID=America/New_York:20260725T104500
DTSTAMP:20260423T143746
CREATED:20231021T120939Z
LAST-MODIFIED:20231030T004827Z
UID:10001562-1784971800-1784976300@yogahighlands.com
SUMMARY:Align + Flow All Levels Yoga w/ Ashby
DESCRIPTION:All bodies and body-types explore classical yoga through a series of postures which build strength and fluid movement. We will offer simple modifications to create an open and playful morning practice. Welcome All Levels. (Absolute Beginners: please see our Yoga 101 Foundations Course Offerings).
URL:https://yogahighlands.com/cal/align-flow-all-levels-yoga/2026-07-25/
LOCATION:Yoga Highlands Studio\, 460 Carolina Way\, Highlands\, NC\, 28741\, United States
CATEGORIES:Classes
END:VEVENT
BEGIN:VEVENT
DTSTART;TZID=America/New_York:20260727T090000
DTEND;TZID=America/New_York:20260727T100000
DTSTAMP:20260423T143746
CREATED:20240818T124327Z
LAST-MODIFIED:20240818T124327Z
UID:10002776-1785142800-1785146400@yogahighlands.com
SUMMARY:Yoga Foundations/ Basics w/ Ashby
DESCRIPTION:This positive movement and breath practice is designed for the students in the room to achieve (1) Deeper breath capacity (2) Easy flowing postural balance.
URL:https://yogahighlands.com/cal/yoga-foundations-basics-w-ashby/2026-07-27/
LOCATION:Yoga Highlands Studio\, 460 Carolina Way\, Highlands\, NC\, 28741\, United States
CATEGORIES:Classes
END:VEVENT
BEGIN:VEVENT
DTSTART;TZID=America/New_York:20260729T090000
DTEND;TZID=America/New_York:20260729T101500
DTSTAMP:20260423T143746
CREATED:20230825T134530Z
LAST-MODIFIED:20230825T135535Z
UID:10001247-1785315600-1785320100@yogahighlands.com
SUMMARY:Pilates Mat Foundations w/ Ashby
DESCRIPTION:Pilates focuses on engaging the mind and body together to create exercises that involves the whole person. Pilates strengthens the core\, improves balance\, increases coordination and decreases stress. In this Foundations class we will journey through the body from bottom to top\, front to back\, and center to periphery to ignite graceful\, efficient movement off the mat and into your daily life.
URL:https://yogahighlands.com/cal/pilates-mat-2/2026-07-29/
LOCATION:NC
CATEGORIES:Classes
END:VEVENT
BEGIN:VEVENT
DTSTART;TZID=America/New_York:20260730T100000
DTEND;TZID=America/New_York:20260730T111500
DTSTAMP:20260423T143746
CREATED:20231109T121933Z
LAST-MODIFIED:20231218T213521Z
UID:10002370-1785405600-1785410100@yogahighlands.com
SUMMARY:Slow Flow Yoga w/ Rose Mary
DESCRIPTION:In our fast-paced society we can become accustomed to our sense of urgency. Give yourself the gift of slowing down. Slow Flow is an easy paced class suitable for all levels of yoga experience. Mindfully moving and breathing\, you’ll find strength and steadiness in the body and mind. We will focus on seated and standing yoga postures and refrain from wrist bearing postures.
URL:https://yogahighlands.com/cal/slow-flow-yoga-2023-02-02-2/2026-07-30/
LOCATION:Yoga Highlands Studio\, 460 Carolina Way\, Highlands\, NC\, 28741\, United States
CATEGORIES:Classes
END:VEVENT
BEGIN:VEVENT
DTSTART;TZID=America/New_York:20260731T090000
DTEND;TZID=America/New_York:20260731T101500
DTSTAMP:20260423T143746
CREATED:20260414T011736Z
LAST-MODIFIED:20260414T011736Z
UID:10002085-1785488400-1785492900@yogahighlands.com
SUMMARY:Nurture Move and Breathe w/ Ashby
DESCRIPTION:Expect flowing postures\, embodied breathwork\, and movement designed to release tension\, enhance self-awareness\, and restore balance. Whether you’re looking to build stability\, ease\, or a deeper sense of presence\, this class offers a supportive space to move\, feel\, and connect from within.
URL:https://yogahighlands.com/cal/vital-body-2023-05-26-9-8-4-3-2/2026-07-31/
LOCATION:Yoga Highlands Studio\, 460 Carolina Way\, Highlands\, NC\, 28741\, United States
CATEGORIES:Classes
END:VEVENT
BEGIN:VEVENT
DTSTART;TZID=America/New_York:20260731T100000
DTEND;TZID=America/New_York:20260731T110000
DTSTAMP:20260423T143746
CREATED:20260414T001011Z
LAST-MODIFIED:20260414T010936Z
UID:10003638-1785492000-1785495600@yogahighlands.com
SUMMARY:Align & Stretch w/ Diane
DESCRIPTION:Align and Stretch is a feel-good yoga class focused on improving posture\, increasing flexibility\, and easing tension.\nSuitable for all levels-come as you are and leave refreshed.
URL:https://yogahighlands.com/cal/align-stretch-w-diane/2026-07-31/
LOCATION:Yoga Highlands Studio\, 460 Carolina Way\, Highlands\, NC\, 28741\, United States
CATEGORIES:Classes
END:VEVENT
END:VCALENDAR