BEGIN:VCALENDAR
VERSION:2.0
PRODID:-//Yoga Highlands Studio - ECPv6.15.17.1//NONSGML v1.0//EN
CALSCALE:GREGORIAN
METHOD:PUBLISH
X-ORIGINAL-URL:https://yogahighlands.com
X-WR-CALDESC:Events for Yoga Highlands Studio
REFRESH-INTERVAL;VALUE=DURATION:PT1H
X-Robots-Tag:noindex
X-PUBLISHED-TTL:PT1H
BEGIN:VTIMEZONE
TZID:America/New_York
BEGIN:DAYLIGHT
TZOFFSETFROM:-0500
TZOFFSETTO:-0400
TZNAME:EDT
DTSTART:20240310T070000
END:DAYLIGHT
BEGIN:STANDARD
TZOFFSETFROM:-0400
TZOFFSETTO:-0500
TZNAME:EST
DTSTART:20241103T060000
END:STANDARD
BEGIN:DAYLIGHT
TZOFFSETFROM:-0500
TZOFFSETTO:-0400
TZNAME:EDT
DTSTART:20250309T070000
END:DAYLIGHT
BEGIN:STANDARD
TZOFFSETFROM:-0400
TZOFFSETTO:-0500
TZNAME:EST
DTSTART:20251102T060000
END:STANDARD
BEGIN:DAYLIGHT
TZOFFSETFROM:-0500
TZOFFSETTO:-0400
TZNAME:EDT
DTSTART:20260308T070000
END:DAYLIGHT
BEGIN:STANDARD
TZOFFSETFROM:-0400
TZOFFSETTO:-0500
TZNAME:EST
DTSTART:20261101T060000
END:STANDARD
BEGIN:DAYLIGHT
TZOFFSETFROM:-0500
TZOFFSETTO:-0400
TZNAME:EDT
DTSTART:20270314T070000
END:DAYLIGHT
BEGIN:STANDARD
TZOFFSETFROM:-0400
TZOFFSETTO:-0500
TZNAME:EST
DTSTART:20271107T060000
END:STANDARD
END:VTIMEZONE
BEGIN:VEVENT
DTSTART;TZID=America/New_York:20251215T180000
DTEND;TZID=America/New_York:20251215T191500
DTSTAMP:20260423T172644
CREATED:20231117T123130Z
LAST-MODIFIED:20231218T213724Z
UID:10002519-1765821600-1765826100@yogahighlands.com
SUMMARY:Yin Yoga + Storytelling w/ Rose Mary
DESCRIPTION:Yin Yoga was founded on the theory of Yin and Yang – opposite concepts that together represent balance. Yin is stable and passive\, while Yang is changing and active. The yin poses\, therefore\, are passive and performed while seated or in a reclining position. The poses are held with the muscles fully relaxed\, allowing time and gravity to deepen the stretch and release the fascia tissues. Rose Mary creates an inviting approach to be comfortable in each posture while enriching each class with poetry and prose.
URL:https://yogahighlands.com/cal/yin-yoga-w-rose-mary-2/2025-12-15/
LOCATION:Yoga Highlands Studio\, 460 Carolina Way\, Highlands\, NC\, 28741\, United States
CATEGORIES:Classes
END:VEVENT
BEGIN:VEVENT
DTSTART;TZID=America/New_York:20251217T090000
DTEND;TZID=America/New_York:20251217T101500
DTSTAMP:20260423T172644
CREATED:20230825T134530Z
LAST-MODIFIED:20230825T135535Z
UID:10001215-1765962000-1765966500@yogahighlands.com
SUMMARY:Pilates Mat Foundations w/ Ashby
DESCRIPTION:Pilates focuses on engaging the mind and body together to create exercises that involves the whole person. Pilates strengthens the core\, improves balance\, increases coordination and decreases stress. In this Foundations class we will journey through the body from bottom to top\, front to back\, and center to periphery to ignite graceful\, efficient movement off the mat and into your daily life.
URL:https://yogahighlands.com/cal/pilates-mat-2/2025-12-17/
LOCATION:NC
CATEGORIES:Classes
END:VEVENT
BEGIN:VEVENT
DTSTART;TZID=America/New_York:20251218T100000
DTEND;TZID=America/New_York:20251218T111500
DTSTAMP:20260423T172644
CREATED:20231109T121933Z
LAST-MODIFIED:20231218T213521Z
UID:10002338-1766052000-1766056500@yogahighlands.com
SUMMARY:Slow Flow Yoga w/ Rose Mary
DESCRIPTION:In our fast-paced society we can become accustomed to our sense of urgency. Give yourself the gift of slowing down. Slow Flow is an easy paced class suitable for all levels of yoga experience. Mindfully moving and breathing\, you’ll find strength and steadiness in the body and mind. We will focus on seated and standing yoga postures and refrain from wrist bearing postures.
URL:https://yogahighlands.com/cal/slow-flow-yoga-2023-02-02-2/2025-12-18/
LOCATION:Yoga Highlands Studio\, 460 Carolina Way\, Highlands\, NC\, 28741\, United States
CATEGORIES:Classes
END:VEVENT
BEGIN:VEVENT
DTSTART;TZID=America/New_York:20251219T090000
DTEND;TZID=America/New_York:20251219T101500
DTSTAMP:20260423T172644
CREATED:20251120T191420Z
LAST-MODIFIED:20251120T191421Z
UID:10002053-1766134800-1766139300@yogahighlands.com
SUMMARY:Nurture Move and Breathe w/ Ashby
DESCRIPTION:Expect flowing postures\, embodied breathwork\, and movement designed to release tension\, enhance self-awareness\, and restore balance. Whether you’re looking to build stability\, ease\, or a deeper sense of presence\, this class offers a supportive space to move\, feel\, and connect from within.
URL:https://yogahighlands.com/cal/vital-body-2023-05-26-9-8/2025-12-19/
LOCATION:Yoga Highlands Studio\, 460 Carolina Way\, Highlands\, NC\, 28741\, United States
CATEGORIES:Classes
END:VEVENT
BEGIN:VEVENT
DTSTART;TZID=America/New_York:20251220T093000
DTEND;TZID=America/New_York:20251220T104500
DTSTAMP:20260423T172644
CREATED:20231021T120939Z
LAST-MODIFIED:20231030T004827Z
UID:10001531-1766223000-1766227500@yogahighlands.com
SUMMARY:Align + Flow All Levels Yoga w/ Ashby
DESCRIPTION:All bodies and body-types explore classical yoga through a series of postures which build strength and fluid movement. We will offer simple modifications to create an open and playful morning practice. Welcome All Levels. (Absolute Beginners: please see our Yoga 101 Foundations Course Offerings).
URL:https://yogahighlands.com/cal/align-flow-all-levels-yoga/2025-12-20/
LOCATION:Yoga Highlands Studio\, 460 Carolina Way\, Highlands\, NC\, 28741\, United States
CATEGORIES:Classes
END:VEVENT
BEGIN:VEVENT
DTSTART;TZID=America/New_York:20251222T090000
DTEND;TZID=America/New_York:20251222T100000
DTSTAMP:20260423T172644
CREATED:20240818T124327Z
LAST-MODIFIED:20240818T124327Z
UID:10002745-1766394000-1766397600@yogahighlands.com
SUMMARY:Yoga Foundations/ Basics w/ Ashby
DESCRIPTION:This positive movement and breath practice is designed for the students in the room to achieve (1) Deeper breath capacity (2) Easy flowing postural balance.
URL:https://yogahighlands.com/cal/yoga-foundations-basics-w-ashby/2025-12-22/
LOCATION:Yoga Highlands Studio\, 460 Carolina Way\, Highlands\, NC\, 28741\, United States
CATEGORIES:Classes
END:VEVENT
BEGIN:VEVENT
DTSTART;TZID=America/New_York:20251224T090000
DTEND;TZID=America/New_York:20251224T101500
DTSTAMP:20260423T172644
CREATED:20251221T134721Z
LAST-MODIFIED:20251221T135206Z
UID:10001216-1766566800-1766571300@yogahighlands.com
SUMMARY:Merry Christmas to you & yours! No Classes Today
DESCRIPTION:Pilates focuses on engaging the mind and body together to create exercises that involves the whole person. Pilates strengthens the core\, improves balance\, increases coordination and decreases stress. In this Foundations class we will journey through the body from bottom to top\, front to back\, and center to periphery to ignite graceful\, efficient movement off the mat and into your daily life.
URL:https://yogahighlands.com/cal/pilates-mat-2-14/
LOCATION:Yoga Highlands Studio\, 460 Carolina Way\, Highlands\, NC\, 28741\, United States
CATEGORIES:Classes
END:VEVENT
BEGIN:VEVENT
DTSTART;TZID=America/New_York:20251225T100000
DTEND;TZID=America/New_York:20251225T111500
DTSTAMP:20260423T172644
CREATED:20251221T134758Z
LAST-MODIFIED:20251221T135243Z
UID:10002339-1766656800-1766661300@yogahighlands.com
SUMMARY:Merry Christmas to you & yours! No Classes Today
DESCRIPTION:In our fast-paced society we can become accustomed to our sense of urgency. Give yourself the gift of slowing down. Slow Flow is an easy paced class suitable for all levels of yoga experience. Mindfully moving and breathing\, you’ll find strength and steadiness in the body and mind. We will focus on seated and standing yoga postures and refrain from wrist bearing postures.
URL:https://yogahighlands.com/cal/slow-flow-yoga-2023-02-02-2-5/
LOCATION:Yoga Highlands Studio\, 460 Carolina Way\, Highlands\, NC\, 28741\, United States
CATEGORIES:Classes
END:VEVENT
BEGIN:VEVENT
DTSTART;TZID=America/New_York:20251226T090000
DTEND;TZID=America/New_York:20251226T101500
DTSTAMP:20260423T172644
CREATED:20251221T134831Z
LAST-MODIFIED:20251221T134831Z
UID:10002054-1766739600-1766744100@yogahighlands.com
SUMMARY:Nurture Move and Breathe w/ Rachel
DESCRIPTION:Expect flowing postures\, embodied breathwork\, and movement designed to release tension\, enhance self-awareness\, and restore balance. Whether you’re looking to build stability\, ease\, or a deeper sense of presence\, this class offers a supportive space to move\, feel\, and connect from within.
URL:https://yogahighlands.com/cal/vital-body-2023-05-26-9-8-3/
LOCATION:Yoga Highlands Studio\, 460 Carolina Way\, Highlands\, NC\, 28741\, United States
CATEGORIES:Classes
END:VEVENT
BEGIN:VEVENT
DTSTART;TZID=America/New_York:20251227T093000
DTEND;TZID=America/New_York:20251227T104500
DTSTAMP:20260423T172644
CREATED:20251221T134914Z
LAST-MODIFIED:20251221T134914Z
UID:10001532-1766827800-1766832300@yogahighlands.com
SUMMARY:Align + Flow All Levels Yoga w/ Rachel
DESCRIPTION:All bodies and body-types explore classical yoga through a series of postures which build strength and fluid movement. We will offer simple modifications to create an open and playful morning practice. Welcome All Levels. (Absolute Beginners: please see our Yoga 101 Foundations Course Offerings).
URL:https://yogahighlands.com/cal/align-flow-all-levels-yoga-17/
LOCATION:Yoga Highlands Studio\, 460 Carolina Way\, Highlands\, NC\, 28741\, United States
CATEGORIES:Classes
END:VEVENT
BEGIN:VEVENT
DTSTART;TZID=America/New_York:20251229T090000
DTEND;TZID=America/New_York:20251229T100000
DTSTAMP:20260423T172644
CREATED:20251221T135117Z
LAST-MODIFIED:20251221T135117Z
UID:10002746-1766998800-1767002400@yogahighlands.com
SUMMARY:Yoga Foundations/ Basics w/ Rose Mary
DESCRIPTION:This positive movement and breath practice is designed for the students in the room to achieve (1) Deeper breath capacity (2) Easy flowing postural balance.
URL:https://yogahighlands.com/cal/yoga-foundations-basics-w-ashby-4/
LOCATION:Yoga Highlands Studio\, 460 Carolina Way\, Highlands\, NC\, 28741\, United States
CATEGORIES:Classes
END:VEVENT
BEGIN:VEVENT
DTSTART;TZID=America/New_York:20251231T090000
DTEND;TZID=America/New_York:20251231T101500
DTSTAMP:20260423T172644
CREATED:20251230T145151Z
LAST-MODIFIED:20251230T145151Z
UID:10001217-1767171600-1767176100@yogahighlands.com
SUMMARY:Class Cancelled due to unforeseen circumstance
DESCRIPTION:Happy New Year. We apologize for any inconvenience with cancellation. Ashby‘s mom has endured a serious fall and she traveled to the coast to help her. Next class at the studio is Thursday New Year’s Day at 10am with Rose Mary for 108 Gentle Flow Sun Salutations to welcome 2026.
URL:https://yogahighlands.com/cal/pilates-mat-2-15/
LOCATION:Yoga Highlands Studio\, 460 Carolina Way\, Highlands\, NC\, 28741\, United States
CATEGORIES:Classes
END:VEVENT
BEGIN:VEVENT
DTSTART;TZID=America/New_York:20260101T100000
DTEND;TZID=America/New_York:20260101T111500
DTSTAMP:20260423T172644
CREATED:20231109T121933Z
LAST-MODIFIED:20231218T213521Z
UID:10002340-1767261600-1767266100@yogahighlands.com
SUMMARY:Slow Flow Yoga w/ Rose Mary
DESCRIPTION:In our fast-paced society we can become accustomed to our sense of urgency. Give yourself the gift of slowing down. Slow Flow is an easy paced class suitable for all levels of yoga experience. Mindfully moving and breathing\, you’ll find strength and steadiness in the body and mind. We will focus on seated and standing yoga postures and refrain from wrist bearing postures.
URL:https://yogahighlands.com/cal/slow-flow-yoga-2023-02-02-2/2026-01-01/
LOCATION:Yoga Highlands Studio\, 460 Carolina Way\, Highlands\, NC\, 28741\, United States
CATEGORIES:Classes
END:VEVENT
BEGIN:VEVENT
DTSTART;TZID=America/New_York:20260102T090000
DTEND;TZID=America/New_York:20260102T101500
DTSTAMP:20260423T172644
CREATED:20251120T191420Z
LAST-MODIFIED:20251120T191421Z
UID:10002055-1767344400-1767348900@yogahighlands.com
SUMMARY:Nurture Move and Breathe w/ Ashby
DESCRIPTION:Expect flowing postures\, embodied breathwork\, and movement designed to release tension\, enhance self-awareness\, and restore balance. Whether you’re looking to build stability\, ease\, or a deeper sense of presence\, this class offers a supportive space to move\, feel\, and connect from within.
URL:https://yogahighlands.com/cal/vital-body-2023-05-26-9-8/2026-01-02/
LOCATION:Yoga Highlands Studio\, 460 Carolina Way\, Highlands\, NC\, 28741\, United States
CATEGORIES:Classes
END:VEVENT
BEGIN:VEVENT
DTSTART;TZID=America/New_York:20260103T093000
DTEND;TZID=America/New_York:20260103T104500
DTSTAMP:20260423T172644
CREATED:20231021T120939Z
LAST-MODIFIED:20231030T004827Z
UID:10001533-1767432600-1767437100@yogahighlands.com
SUMMARY:Align + Flow All Levels Yoga w/ Ashby
DESCRIPTION:All bodies and body-types explore classical yoga through a series of postures which build strength and fluid movement. We will offer simple modifications to create an open and playful morning practice. Welcome All Levels. (Absolute Beginners: please see our Yoga 101 Foundations Course Offerings).
URL:https://yogahighlands.com/cal/align-flow-all-levels-yoga/2026-01-03/
LOCATION:Yoga Highlands Studio\, 460 Carolina Way\, Highlands\, NC\, 28741\, United States
CATEGORIES:Classes
END:VEVENT
BEGIN:VEVENT
DTSTART;TZID=America/New_York:20260105T090000
DTEND;TZID=America/New_York:20260105T100000
DTSTAMP:20260423T172644
CREATED:20240818T124327Z
LAST-MODIFIED:20240818T124327Z
UID:10002747-1767603600-1767607200@yogahighlands.com
SUMMARY:Yoga Foundations/ Basics w/ Ashby
DESCRIPTION:This positive movement and breath practice is designed for the students in the room to achieve (1) Deeper breath capacity (2) Easy flowing postural balance.
URL:https://yogahighlands.com/cal/yoga-foundations-basics-w-ashby/2026-01-05/
LOCATION:Yoga Highlands Studio\, 460 Carolina Way\, Highlands\, NC\, 28741\, United States
CATEGORIES:Classes
END:VEVENT
BEGIN:VEVENT
DTSTART;TZID=America/New_York:20260105T180000
DTEND;TZID=America/New_York:20260105T191500
DTSTAMP:20260423T172644
CREATED:20250225T172331Z
LAST-MODIFIED:20250225T172331Z
UID:10003195-1767636000-1767640500@yogahighlands.com
SUMMARY:Restorative Yoga + Sound Bath w/ Rose Mary
DESCRIPTION:In this class we will use all props and bolsters available to support your body into a rest state in each of the postures presented. This form of yoga calms nervous tension and promotes deeper sleep (hence our practice in the evening!).\nRose Mary has studied with Judith Lasater\, a senior teacher of Restorative Yoga. A South Bath is the use of crystal bowls and harmonizing sound to focus your mind into a journey state assisting your relaxation and comfort.
URL:https://yogahighlands.com/cal/restorative-yoga-sound-bath-w-rose-mary-3-2/2026-01-05/
LOCATION:Yoga Highlands Studio\, 460 Carolina Way\, Highlands\, NC\, 28741\, United States
CATEGORIES:Classes
END:VEVENT
BEGIN:VEVENT
DTSTART;TZID=America/New_York:20260107T090000
DTEND;TZID=America/New_York:20260107T101500
DTSTAMP:20260423T172644
CREATED:20230825T134530Z
LAST-MODIFIED:20230825T135535Z
UID:10001218-1767776400-1767780900@yogahighlands.com
SUMMARY:Pilates Mat Foundations w/ Ashby
DESCRIPTION:Pilates focuses on engaging the mind and body together to create exercises that involves the whole person. Pilates strengthens the core\, improves balance\, increases coordination and decreases stress. In this Foundations class we will journey through the body from bottom to top\, front to back\, and center to periphery to ignite graceful\, efficient movement off the mat and into your daily life.
URL:https://yogahighlands.com/cal/pilates-mat-2/2026-01-07/
LOCATION:NC
CATEGORIES:Classes
END:VEVENT
BEGIN:VEVENT
DTSTART;TZID=America/New_York:20260108T100000
DTEND;TZID=America/New_York:20260108T111500
DTSTAMP:20260423T172644
CREATED:20231109T121933Z
LAST-MODIFIED:20231218T213521Z
UID:10002341-1767866400-1767870900@yogahighlands.com
SUMMARY:Slow Flow Yoga w/ Rose Mary
DESCRIPTION:In our fast-paced society we can become accustomed to our sense of urgency. Give yourself the gift of slowing down. Slow Flow is an easy paced class suitable for all levels of yoga experience. Mindfully moving and breathing\, you’ll find strength and steadiness in the body and mind. We will focus on seated and standing yoga postures and refrain from wrist bearing postures.
URL:https://yogahighlands.com/cal/slow-flow-yoga-2023-02-02-2/2026-01-08/
LOCATION:Yoga Highlands Studio\, 460 Carolina Way\, Highlands\, NC\, 28741\, United States
CATEGORIES:Classes
END:VEVENT
BEGIN:VEVENT
DTSTART;TZID=America/New_York:20260109T090000
DTEND;TZID=America/New_York:20260109T101500
DTSTAMP:20260423T172644
CREATED:20251120T191420Z
LAST-MODIFIED:20251120T191421Z
UID:10002056-1767949200-1767953700@yogahighlands.com
SUMMARY:Nurture Move and Breathe w/ Ashby
DESCRIPTION:Expect flowing postures\, embodied breathwork\, and movement designed to release tension\, enhance self-awareness\, and restore balance. Whether you’re looking to build stability\, ease\, or a deeper sense of presence\, this class offers a supportive space to move\, feel\, and connect from within.
URL:https://yogahighlands.com/cal/vital-body-2023-05-26-9-8/2026-01-09/
LOCATION:Yoga Highlands Studio\, 460 Carolina Way\, Highlands\, NC\, 28741\, United States
CATEGORIES:Classes
END:VEVENT
BEGIN:VEVENT
DTSTART;TZID=America/New_York:20260110T093000
DTEND;TZID=America/New_York:20260110T104500
DTSTAMP:20260423T172644
CREATED:20231021T120939Z
LAST-MODIFIED:20231030T004827Z
UID:10001534-1768037400-1768041900@yogahighlands.com
SUMMARY:Align + Flow All Levels Yoga w/ Ashby
DESCRIPTION:All bodies and body-types explore classical yoga through a series of postures which build strength and fluid movement. We will offer simple modifications to create an open and playful morning practice. Welcome All Levels. (Absolute Beginners: please see our Yoga 101 Foundations Course Offerings).
URL:https://yogahighlands.com/cal/align-flow-all-levels-yoga/2026-01-10/
LOCATION:Yoga Highlands Studio\, 460 Carolina Way\, Highlands\, NC\, 28741\, United States
CATEGORIES:Classes
END:VEVENT
BEGIN:VEVENT
DTSTART;TZID=America/New_York:20260112T090000
DTEND;TZID=America/New_York:20260112T100000
DTSTAMP:20260423T172644
CREATED:20240818T124327Z
LAST-MODIFIED:20240818T124327Z
UID:10002748-1768208400-1768212000@yogahighlands.com
SUMMARY:Yoga Foundations/ Basics w/ Ashby
DESCRIPTION:This positive movement and breath practice is designed for the students in the room to achieve (1) Deeper breath capacity (2) Easy flowing postural balance.
URL:https://yogahighlands.com/cal/yoga-foundations-basics-w-ashby/2026-01-12/
LOCATION:Yoga Highlands Studio\, 460 Carolina Way\, Highlands\, NC\, 28741\, United States
CATEGORIES:Classes
END:VEVENT
BEGIN:VEVENT
DTSTART;TZID=America/New_York:20260114T090000
DTEND;TZID=America/New_York:20260114T101500
DTSTAMP:20260423T172644
CREATED:20230825T134530Z
LAST-MODIFIED:20230825T135535Z
UID:10001219-1768381200-1768385700@yogahighlands.com
SUMMARY:Pilates Mat Foundations w/ Ashby
DESCRIPTION:Pilates focuses on engaging the mind and body together to create exercises that involves the whole person. Pilates strengthens the core\, improves balance\, increases coordination and decreases stress. In this Foundations class we will journey through the body from bottom to top\, front to back\, and center to periphery to ignite graceful\, efficient movement off the mat and into your daily life.
URL:https://yogahighlands.com/cal/pilates-mat-2/2026-01-14/
LOCATION:NC
CATEGORIES:Classes
END:VEVENT
BEGIN:VEVENT
DTSTART;TZID=America/New_York:20260115T100000
DTEND;TZID=America/New_York:20260115T111500
DTSTAMP:20260423T172644
CREATED:20231109T121933Z
LAST-MODIFIED:20231218T213521Z
UID:10002342-1768471200-1768475700@yogahighlands.com
SUMMARY:Slow Flow Yoga w/ Rose Mary
DESCRIPTION:In our fast-paced society we can become accustomed to our sense of urgency. Give yourself the gift of slowing down. Slow Flow is an easy paced class suitable for all levels of yoga experience. Mindfully moving and breathing\, you’ll find strength and steadiness in the body and mind. We will focus on seated and standing yoga postures and refrain from wrist bearing postures.
URL:https://yogahighlands.com/cal/slow-flow-yoga-2023-02-02-2/2026-01-15/
LOCATION:Yoga Highlands Studio\, 460 Carolina Way\, Highlands\, NC\, 28741\, United States
CATEGORIES:Classes
END:VEVENT
BEGIN:VEVENT
DTSTART;TZID=America/New_York:20260116T090000
DTEND;TZID=America/New_York:20260116T101500
DTSTAMP:20260423T172644
CREATED:20260115T162920Z
LAST-MODIFIED:20260115T162920Z
UID:10002057-1768554000-1768558500@yogahighlands.com
SUMMARY:No class this AM. See you next week!
DESCRIPTION:Expect flowing postures\, embodied breathwork\, and movement designed to release tension\, enhance self-awareness\, and restore balance. Whether you’re looking to build stability\, ease\, or a deeper sense of presence\, this class offers a supportive space to move\, feel\, and connect from within.
URL:https://yogahighlands.com/cal/vital-body-2023-05-26-9-8-4-2/
LOCATION:Yoga Highlands Studio\, 460 Carolina Way\, Highlands\, NC\, 28741\, United States
CATEGORIES:Classes
END:VEVENT
BEGIN:VEVENT
DTSTART;TZID=America/New_York:20260117T093000
DTEND;TZID=America/New_York:20260117T104500
DTSTAMP:20260423T172644
CREATED:20231021T120939Z
LAST-MODIFIED:20231030T004827Z
UID:10001535-1768642200-1768646700@yogahighlands.com
SUMMARY:Align + Flow All Levels Yoga w/ Ashby
DESCRIPTION:All bodies and body-types explore classical yoga through a series of postures which build strength and fluid movement. We will offer simple modifications to create an open and playful morning practice. Welcome All Levels. (Absolute Beginners: please see our Yoga 101 Foundations Course Offerings).
URL:https://yogahighlands.com/cal/align-flow-all-levels-yoga/2026-01-17/
LOCATION:Yoga Highlands Studio\, 460 Carolina Way\, Highlands\, NC\, 28741\, United States
CATEGORIES:Classes
END:VEVENT
BEGIN:VEVENT
DTSTART;TZID=America/New_York:20260119T090000
DTEND;TZID=America/New_York:20260119T100000
DTSTAMP:20260423T172644
CREATED:20240818T124327Z
LAST-MODIFIED:20240818T124327Z
UID:10002749-1768813200-1768816800@yogahighlands.com
SUMMARY:Yoga Foundations/ Basics w/ Ashby
DESCRIPTION:This positive movement and breath practice is designed for the students in the room to achieve (1) Deeper breath capacity (2) Easy flowing postural balance.
URL:https://yogahighlands.com/cal/yoga-foundations-basics-w-ashby/2026-01-19/
LOCATION:Yoga Highlands Studio\, 460 Carolina Way\, Highlands\, NC\, 28741\, United States
CATEGORIES:Classes
END:VEVENT
BEGIN:VEVENT
DTSTART;TZID=America/New_York:20260119T180000
DTEND;TZID=America/New_York:20260119T191500
DTSTAMP:20260423T172644
CREATED:20231117T123130Z
LAST-MODIFIED:20231218T213724Z
UID:10002520-1768845600-1768850100@yogahighlands.com
SUMMARY:Yin Yoga + Storytelling w/ Rose Mary
DESCRIPTION:Yin Yoga was founded on the theory of Yin and Yang – opposite concepts that together represent balance. Yin is stable and passive\, while Yang is changing and active. The yin poses\, therefore\, are passive and performed while seated or in a reclining position. The poses are held with the muscles fully relaxed\, allowing time and gravity to deepen the stretch and release the fascia tissues. Rose Mary creates an inviting approach to be comfortable in each posture while enriching each class with poetry and prose.
URL:https://yogahighlands.com/cal/yin-yoga-w-rose-mary-2/2026-01-19/
LOCATION:Yoga Highlands Studio\, 460 Carolina Way\, Highlands\, NC\, 28741\, United States
CATEGORIES:Classes
END:VEVENT
BEGIN:VEVENT
DTSTART;TZID=America/New_York:20260121T090000
DTEND;TZID=America/New_York:20260121T101500
DTSTAMP:20260423T172644
CREATED:20230825T134530Z
LAST-MODIFIED:20230825T135535Z
UID:10001220-1768986000-1768990500@yogahighlands.com
SUMMARY:Pilates Mat Foundations w/ Ashby
DESCRIPTION:Pilates focuses on engaging the mind and body together to create exercises that involves the whole person. Pilates strengthens the core\, improves balance\, increases coordination and decreases stress. In this Foundations class we will journey through the body from bottom to top\, front to back\, and center to periphery to ignite graceful\, efficient movement off the mat and into your daily life.
URL:https://yogahighlands.com/cal/pilates-mat-2/2026-01-21/
LOCATION:NC
CATEGORIES:Classes
END:VEVENT
BEGIN:VEVENT
DTSTART;TZID=America/New_York:20260122T100000
DTEND;TZID=America/New_York:20260122T111500
DTSTAMP:20260423T172644
CREATED:20231109T121933Z
LAST-MODIFIED:20231218T213521Z
UID:10002343-1769076000-1769080500@yogahighlands.com
SUMMARY:Slow Flow Yoga w/ Rose Mary
DESCRIPTION:In our fast-paced society we can become accustomed to our sense of urgency. Give yourself the gift of slowing down. Slow Flow is an easy paced class suitable for all levels of yoga experience. Mindfully moving and breathing\, you’ll find strength and steadiness in the body and mind. We will focus on seated and standing yoga postures and refrain from wrist bearing postures.
URL:https://yogahighlands.com/cal/slow-flow-yoga-2023-02-02-2/2026-01-22/
LOCATION:Yoga Highlands Studio\, 460 Carolina Way\, Highlands\, NC\, 28741\, United States
CATEGORIES:Classes
END:VEVENT
END:VCALENDAR