BEGIN:VCALENDAR
VERSION:2.0
PRODID:-//Yoga Highlands Studio - ECPv6.15.17.1//NONSGML v1.0//EN
CALSCALE:GREGORIAN
METHOD:PUBLISH
X-WR-CALNAME:Yoga Highlands Studio
X-ORIGINAL-URL:https://yogahighlands.com
X-WR-CALDESC:Events for Yoga Highlands Studio
REFRESH-INTERVAL;VALUE=DURATION:PT1H
X-Robots-Tag:noindex
X-PUBLISHED-TTL:PT1H
BEGIN:VTIMEZONE
TZID:America/New_York
BEGIN:DAYLIGHT
TZOFFSETFROM:-0500
TZOFFSETTO:-0400
TZNAME:EDT
DTSTART:20210314T070000
END:DAYLIGHT
BEGIN:STANDARD
TZOFFSETFROM:-0400
TZOFFSETTO:-0500
TZNAME:EST
DTSTART:20211107T060000
END:STANDARD
BEGIN:DAYLIGHT
TZOFFSETFROM:-0500
TZOFFSETTO:-0400
TZNAME:EDT
DTSTART:20220313T070000
END:DAYLIGHT
BEGIN:STANDARD
TZOFFSETFROM:-0400
TZOFFSETTO:-0500
TZNAME:EST
DTSTART:20221106T060000
END:STANDARD
BEGIN:DAYLIGHT
TZOFFSETFROM:-0500
TZOFFSETTO:-0400
TZNAME:EDT
DTSTART:20230312T070000
END:DAYLIGHT
BEGIN:STANDARD
TZOFFSETFROM:-0400
TZOFFSETTO:-0500
TZNAME:EST
DTSTART:20231105T060000
END:STANDARD
END:VTIMEZONE
BEGIN:VEVENT
DTSTART;TZID=America/New_York:20220402T093000
DTEND;TZID=America/New_York:20220402T104500
DTSTAMP:20260425T231545
CREATED:20220324T192328Z
LAST-MODIFIED:20230327T192530Z
UID:10000861-1648891800-1648896300@yogahighlands.com
SUMMARY:Align + Flow All Levels Yoga w/ Ashby
DESCRIPTION:All bodies and body-types explore classical yoga through a series of postures which build strength and fluid movement. We will offer simple modifications to create an open and playful morning practice. Welcome All Levels. (Absolute Beginners: please see our Yoga 101 Foundations Course Offerings).
URL:https://yogahighlands.com/cal/align-flow-all-levels-yoga-w-chad-sub/2022-04-02/
LOCATION:Yoga Highlands Studio\, 460 Carolina Way\, Highlands\, NC\, 28741\, United States
CATEGORIES:Classes
END:VEVENT
BEGIN:VEVENT
DTSTART;TZID=America/New_York:20220404T090000
DTEND;TZID=America/New_York:20220404T100000
DTSTAMP:20260425T231545
CREATED:20220324T192429Z
LAST-MODIFIED:20220405T152237Z
UID:10000860-1649062800-1649066400@yogahighlands.com
SUMMARY:Wisdom of the Body w/ Chad
DESCRIPTION:Experience true well-being and how interconnected we are (body\, nerves\, muscles\, bone) and how that bio-tensegrity effects our movement. The Wisdom of the Body sequence is a deep reset for the over-active mind and creates a sense of being ‘alright in the world’ inside yourself. How we move is how we do anything. This gentle teaching style is easy on the body\, energetic and balancing for the spine and joints. We may ask you to move slowly and to feel\, not push or strain. All levels welcome.
URL:https://yogahighlands.com/cal/wisdom-of-the-body-w-chad/
LOCATION:Yoga Highlands Studio\, 460 Carolina Way\, Highlands\, NC\, 28741\, United States
CATEGORIES:Classes
END:VEVENT
BEGIN:VEVENT
DTSTART;TZID=America/New_York:20220406T090000
DTEND;TZID=America/New_York:20220406T101500
DTSTAMP:20260425T231545
CREATED:20220329T175656Z
LAST-MODIFIED:20230226T015015Z
UID:10000711-1649235600-1649240100@yogahighlands.com
SUMMARY:Pilates Mat Foundations w/ Ashby
DESCRIPTION:Pilates focuses on engaging the mind and body together to create exercises that involves the whole person. Pilates strengthens the core\, improves balance\, increases coordination and decreases stress. In this Foundations class we will journey through the body from bottom to top\, front to back\, and center to periphery to ignite graceful\, efficient movement off the mat and into your daily life.
URL:https://yogahighlands.com/cal/pilates-mat/2022-04-06/
LOCATION:NC
END:VEVENT
BEGIN:VEVENT
DTSTART;TZID=America/New_York:20220408T090000
DTEND;TZID=America/New_York:20220408T101500
DTSTAMP:20260425T231545
CREATED:20220324T190141Z
LAST-MODIFIED:20230502T125718Z
UID:10001014-1649408400-1649412900@yogahighlands.com
SUMMARY:Vital Body Strength w/ Diane
DESCRIPTION:Build and discover your own personal strength and power. Choose to grow the energy needed to maintain wellness. We keep you in the moment with our on-point power flow.  Arrive to your weekend refreshed and living from your heart.
URL:https://yogahighlands.com/cal/vital-body/2022-04-08/
LOCATION:Yoga Highlands Studio\, 460 Carolina Way\, Highlands\, NC\, 28741\, United States
CATEGORIES:Classes
END:VEVENT
BEGIN:VEVENT
DTSTART;TZID=America/New_York:20220409T093000
DTEND;TZID=America/New_York:20220409T104500
DTSTAMP:20260425T231545
CREATED:20220324T192328Z
LAST-MODIFIED:20230327T192530Z
UID:10000862-1649496600-1649501100@yogahighlands.com
SUMMARY:Align + Flow All Levels Yoga w/ Ashby
DESCRIPTION:All bodies and body-types explore classical yoga through a series of postures which build strength and fluid movement. We will offer simple modifications to create an open and playful morning practice. Welcome All Levels. (Absolute Beginners: please see our Yoga 101 Foundations Course Offerings).
URL:https://yogahighlands.com/cal/align-flow-all-levels-yoga-w-chad-sub/2022-04-09/
LOCATION:Yoga Highlands Studio\, 460 Carolina Way\, Highlands\, NC\, 28741\, United States
CATEGORIES:Classes
END:VEVENT
BEGIN:VEVENT
DTSTART;TZID=America/New_York:20220413T090000
DTEND;TZID=America/New_York:20220413T101500
DTSTAMP:20260425T231545
CREATED:20220329T175656Z
LAST-MODIFIED:20230226T015015Z
UID:10000712-1649840400-1649844900@yogahighlands.com
SUMMARY:Pilates Mat Foundations w/ Ashby
DESCRIPTION:Pilates focuses on engaging the mind and body together to create exercises that involves the whole person. Pilates strengthens the core\, improves balance\, increases coordination and decreases stress. In this Foundations class we will journey through the body from bottom to top\, front to back\, and center to periphery to ignite graceful\, efficient movement off the mat and into your daily life.
URL:https://yogahighlands.com/cal/pilates-mat/2022-04-13/
LOCATION:NC
END:VEVENT
BEGIN:VEVENT
DTSTART;TZID=America/New_York:20220413T180000
DTEND;TZID=America/New_York:20220413T191500
DTSTAMP:20260425T231545
CREATED:20220329T175259Z
LAST-MODIFIED:20230606T114657Z
UID:10000780-1649872800-1649877300@yogahighlands.com
SUMMARY:Embodied Yoga w/ Rachel
DESCRIPTION:This class is a blend of classical\, steady posture (asana) and organic intuitive movement to aid you feeling more attuned to yourself and mentally refreshed and clear.  Discover the synergy of movement + guided deep rest practices.
URL:https://yogahighlands.com/cal/uptempo-yoga/2022-04-13/
LOCATION:NC
CATEGORIES:Classes
END:VEVENT
BEGIN:VEVENT
DTSTART;TZID=America/New_York:20220415T090000
DTEND;TZID=America/New_York:20220415T101500
DTSTAMP:20260425T231545
CREATED:20220324T190141Z
LAST-MODIFIED:20230502T125718Z
UID:10001015-1650013200-1650017700@yogahighlands.com
SUMMARY:Vital Body Strength w/ Diane
DESCRIPTION:Build and discover your own personal strength and power. Choose to grow the energy needed to maintain wellness. We keep you in the moment with our on-point power flow.  Arrive to your weekend refreshed and living from your heart.
URL:https://yogahighlands.com/cal/vital-body/2022-04-15/
LOCATION:Yoga Highlands Studio\, 460 Carolina Way\, Highlands\, NC\, 28741\, United States
CATEGORIES:Classes
END:VEVENT
BEGIN:VEVENT
DTSTART;TZID=America/New_York:20220416T093000
DTEND;TZID=America/New_York:20220416T104500
DTSTAMP:20260425T231545
CREATED:20220324T192328Z
LAST-MODIFIED:20230327T192530Z
UID:10000863-1650101400-1650105900@yogahighlands.com
SUMMARY:Align + Flow All Levels Yoga w/ Ashby
DESCRIPTION:All bodies and body-types explore classical yoga through a series of postures which build strength and fluid movement. We will offer simple modifications to create an open and playful morning practice. Welcome All Levels. (Absolute Beginners: please see our Yoga 101 Foundations Course Offerings).
URL:https://yogahighlands.com/cal/align-flow-all-levels-yoga-w-chad-sub/2022-04-16/
LOCATION:Yoga Highlands Studio\, 460 Carolina Way\, Highlands\, NC\, 28741\, United States
CATEGORIES:Classes
END:VEVENT
BEGIN:VEVENT
DTSTART;TZID=America/New_York:20220420T090000
DTEND;TZID=America/New_York:20220420T101500
DTSTAMP:20260425T231545
CREATED:20220329T175656Z
LAST-MODIFIED:20230226T015015Z
UID:10000713-1650445200-1650449700@yogahighlands.com
SUMMARY:Pilates Mat Foundations w/ Ashby
DESCRIPTION:Pilates focuses on engaging the mind and body together to create exercises that involves the whole person. Pilates strengthens the core\, improves balance\, increases coordination and decreases stress. In this Foundations class we will journey through the body from bottom to top\, front to back\, and center to periphery to ignite graceful\, efficient movement off the mat and into your daily life.
URL:https://yogahighlands.com/cal/pilates-mat/2022-04-20/
LOCATION:NC
END:VEVENT
BEGIN:VEVENT
DTSTART;TZID=America/New_York:20220420T180000
DTEND;TZID=America/New_York:20220420T191500
DTSTAMP:20260425T231545
CREATED:20220329T175259Z
LAST-MODIFIED:20230606T114657Z
UID:10000781-1650477600-1650482100@yogahighlands.com
SUMMARY:Embodied Yoga w/ Rachel
DESCRIPTION:This class is a blend of classical\, steady posture (asana) and organic intuitive movement to aid you feeling more attuned to yourself and mentally refreshed and clear.  Discover the synergy of movement + guided deep rest practices.
URL:https://yogahighlands.com/cal/uptempo-yoga/2022-04-20/
LOCATION:NC
CATEGORIES:Classes
END:VEVENT
BEGIN:VEVENT
DTSTART;TZID=America/New_York:20220422T090000
DTEND;TZID=America/New_York:20220422T101500
DTSTAMP:20260425T231545
CREATED:20220324T190141Z
LAST-MODIFIED:20230502T125718Z
UID:10001016-1650618000-1650622500@yogahighlands.com
SUMMARY:Vital Body Strength w/ Diane
DESCRIPTION:Build and discover your own personal strength and power. Choose to grow the energy needed to maintain wellness. We keep you in the moment with our on-point power flow.  Arrive to your weekend refreshed and living from your heart.
URL:https://yogahighlands.com/cal/vital-body/2022-04-22/
LOCATION:Yoga Highlands Studio\, 460 Carolina Way\, Highlands\, NC\, 28741\, United States
CATEGORIES:Classes
END:VEVENT
BEGIN:VEVENT
DTSTART;TZID=America/New_York:20220423T093000
DTEND;TZID=America/New_York:20220423T104500
DTSTAMP:20260425T231545
CREATED:20220324T192328Z
LAST-MODIFIED:20230327T192530Z
UID:10000864-1650706200-1650710700@yogahighlands.com
SUMMARY:Align + Flow All Levels Yoga w/ Ashby
DESCRIPTION:All bodies and body-types explore classical yoga through a series of postures which build strength and fluid movement. We will offer simple modifications to create an open and playful morning practice. Welcome All Levels. (Absolute Beginners: please see our Yoga 101 Foundations Course Offerings).
URL:https://yogahighlands.com/cal/align-flow-all-levels-yoga-w-chad-sub/2022-04-23/
LOCATION:Yoga Highlands Studio\, 460 Carolina Way\, Highlands\, NC\, 28741\, United States
CATEGORIES:Classes
END:VEVENT
BEGIN:VEVENT
DTSTART;TZID=America/New_York:20220427T090000
DTEND;TZID=America/New_York:20220427T101500
DTSTAMP:20260425T231545
CREATED:20220329T175656Z
LAST-MODIFIED:20230226T015015Z
UID:10000714-1651050000-1651054500@yogahighlands.com
SUMMARY:Pilates Mat Foundations w/ Ashby
DESCRIPTION:Pilates focuses on engaging the mind and body together to create exercises that involves the whole person. Pilates strengthens the core\, improves balance\, increases coordination and decreases stress. In this Foundations class we will journey through the body from bottom to top\, front to back\, and center to periphery to ignite graceful\, efficient movement off the mat and into your daily life.
URL:https://yogahighlands.com/cal/pilates-mat/2022-04-27/
LOCATION:NC
END:VEVENT
BEGIN:VEVENT
DTSTART;TZID=America/New_York:20220427T180000
DTEND;TZID=America/New_York:20220427T191500
DTSTAMP:20260425T231545
CREATED:20220329T175259Z
LAST-MODIFIED:20230606T114657Z
UID:10000782-1651082400-1651086900@yogahighlands.com
SUMMARY:Embodied Yoga w/ Rachel
DESCRIPTION:This class is a blend of classical\, steady posture (asana) and organic intuitive movement to aid you feeling more attuned to yourself and mentally refreshed and clear.  Discover the synergy of movement + guided deep rest practices.
URL:https://yogahighlands.com/cal/uptempo-yoga/2022-04-27/
LOCATION:NC
CATEGORIES:Classes
END:VEVENT
BEGIN:VEVENT
DTSTART;TZID=America/New_York:20220429T090000
DTEND;TZID=America/New_York:20220429T101500
DTSTAMP:20260425T231545
CREATED:20220324T190141Z
LAST-MODIFIED:20230502T125718Z
UID:10001017-1651222800-1651227300@yogahighlands.com
SUMMARY:Vital Body Strength w/ Diane
DESCRIPTION:Build and discover your own personal strength and power. Choose to grow the energy needed to maintain wellness. We keep you in the moment with our on-point power flow.  Arrive to your weekend refreshed and living from your heart.
URL:https://yogahighlands.com/cal/vital-body/2022-04-29/
LOCATION:Yoga Highlands Studio\, 460 Carolina Way\, Highlands\, NC\, 28741\, United States
CATEGORIES:Classes
END:VEVENT
BEGIN:VEVENT
DTSTART;TZID=America/New_York:20220430T093000
DTEND;TZID=America/New_York:20220430T104500
DTSTAMP:20260425T231545
CREATED:20220324T192328Z
LAST-MODIFIED:20230327T192530Z
UID:10000865-1651311000-1651315500@yogahighlands.com
SUMMARY:Align + Flow All Levels Yoga w/ Ashby
DESCRIPTION:All bodies and body-types explore classical yoga through a series of postures which build strength and fluid movement. We will offer simple modifications to create an open and playful morning practice. Welcome All Levels. (Absolute Beginners: please see our Yoga 101 Foundations Course Offerings).
URL:https://yogahighlands.com/cal/align-flow-all-levels-yoga-w-chad-sub/2022-04-30/
LOCATION:Yoga Highlands Studio\, 460 Carolina Way\, Highlands\, NC\, 28741\, United States
CATEGORIES:Classes
END:VEVENT
END:VCALENDAR