BEGIN:VCALENDAR
VERSION:2.0
PRODID:-//Yoga Highlands Studio - ECPv6.15.17.1//NONSGML v1.0//EN
CALSCALE:GREGORIAN
METHOD:PUBLISH
X-WR-CALNAME:Yoga Highlands Studio
X-ORIGINAL-URL:https://yogahighlands.com
X-WR-CALDESC:Events for Yoga Highlands Studio
REFRESH-INTERVAL;VALUE=DURATION:PT1H
X-Robots-Tag:noindex
X-PUBLISHED-TTL:PT1H
BEGIN:VTIMEZONE
TZID:America/New_York
BEGIN:DAYLIGHT
TZOFFSETFROM:-0500
TZOFFSETTO:-0400
TZNAME:EDT
DTSTART:20250309T070000
END:DAYLIGHT
BEGIN:STANDARD
TZOFFSETFROM:-0400
TZOFFSETTO:-0500
TZNAME:EST
DTSTART:20251102T060000
END:STANDARD
BEGIN:DAYLIGHT
TZOFFSETFROM:-0500
TZOFFSETTO:-0400
TZNAME:EDT
DTSTART:20260308T070000
END:DAYLIGHT
BEGIN:STANDARD
TZOFFSETFROM:-0400
TZOFFSETTO:-0500
TZNAME:EST
DTSTART:20261101T060000
END:STANDARD
BEGIN:DAYLIGHT
TZOFFSETFROM:-0500
TZOFFSETTO:-0400
TZNAME:EDT
DTSTART:20270314T070000
END:DAYLIGHT
BEGIN:STANDARD
TZOFFSETFROM:-0400
TZOFFSETTO:-0500
TZNAME:EST
DTSTART:20271107T060000
END:STANDARD
END:VTIMEZONE
BEGIN:VEVENT
DTSTART;TZID=America/New_York:20260508T100000
DTEND;TZID=America/New_York:20260508T110000
DTSTAMP:20260423T114312
CREATED:20260414T001011Z
LAST-MODIFIED:20260414T010936Z
UID:10003613-1778234400-1778238000@yogahighlands.com
SUMMARY:Align & Stretch w/ Diane
DESCRIPTION:Align and Stretch is a feel-good yoga class focused on improving posture\, increasing flexibility\, and easing tension.\nSuitable for all levels-come as you are and leave refreshed.
URL:https://yogahighlands.com/cal/align-stretch-w-diane/2026-05-08/
LOCATION:Yoga Highlands Studio\, 460 Carolina Way\, Highlands\, NC\, 28741\, United States
CATEGORIES:Classes
END:VEVENT
BEGIN:VEVENT
DTSTART;TZID=America/New_York:20260515T100000
DTEND;TZID=America/New_York:20260515T110000
DTSTAMP:20260423T114312
CREATED:20260414T001011Z
LAST-MODIFIED:20260414T010936Z
UID:10003627-1778839200-1778842800@yogahighlands.com
SUMMARY:Align & Stretch w/ Diane
DESCRIPTION:Align and Stretch is a feel-good yoga class focused on improving posture\, increasing flexibility\, and easing tension.\nSuitable for all levels-come as you are and leave refreshed.
URL:https://yogahighlands.com/cal/align-stretch-w-diane/2026-05-15/
LOCATION:Yoga Highlands Studio\, 460 Carolina Way\, Highlands\, NC\, 28741\, United States
CATEGORIES:Classes
END:VEVENT
BEGIN:VEVENT
DTSTART;TZID=America/New_York:20260522T100000
DTEND;TZID=America/New_York:20260522T110000
DTSTAMP:20260423T114312
CREATED:20260414T001011Z
LAST-MODIFIED:20260414T010936Z
UID:10003628-1779444000-1779447600@yogahighlands.com
SUMMARY:Align & Stretch w/ Diane
DESCRIPTION:Align and Stretch is a feel-good yoga class focused on improving posture\, increasing flexibility\, and easing tension.\nSuitable for all levels-come as you are and leave refreshed.
URL:https://yogahighlands.com/cal/align-stretch-w-diane/2026-05-22/
LOCATION:Yoga Highlands Studio\, 460 Carolina Way\, Highlands\, NC\, 28741\, United States
CATEGORIES:Classes
END:VEVENT
BEGIN:VEVENT
DTSTART;TZID=America/New_York:20260529T100000
DTEND;TZID=America/New_York:20260529T110000
DTSTAMP:20260423T114312
CREATED:20260414T001011Z
LAST-MODIFIED:20260414T010936Z
UID:10003629-1780048800-1780052400@yogahighlands.com
SUMMARY:Align & Stretch w/ Diane
DESCRIPTION:Align and Stretch is a feel-good yoga class focused on improving posture\, increasing flexibility\, and easing tension.\nSuitable for all levels-come as you are and leave refreshed.
URL:https://yogahighlands.com/cal/align-stretch-w-diane/2026-05-29/
LOCATION:Yoga Highlands Studio\, 460 Carolina Way\, Highlands\, NC\, 28741\, United States
CATEGORIES:Classes
END:VEVENT
BEGIN:VEVENT
DTSTART;TZID=America/New_York:20260605T100000
DTEND;TZID=America/New_York:20260605T110000
DTSTAMP:20260423T114312
CREATED:20260414T001011Z
LAST-MODIFIED:20260414T010936Z
UID:10003630-1780653600-1780657200@yogahighlands.com
SUMMARY:Align & Stretch w/ Diane
DESCRIPTION:Align and Stretch is a feel-good yoga class focused on improving posture\, increasing flexibility\, and easing tension.\nSuitable for all levels-come as you are and leave refreshed.
URL:https://yogahighlands.com/cal/align-stretch-w-diane/2026-06-05/
LOCATION:Yoga Highlands Studio\, 460 Carolina Way\, Highlands\, NC\, 28741\, United States
CATEGORIES:Classes
END:VEVENT
BEGIN:VEVENT
DTSTART;TZID=America/New_York:20260612T100000
DTEND;TZID=America/New_York:20260612T110000
DTSTAMP:20260423T114312
CREATED:20260414T001011Z
LAST-MODIFIED:20260414T010936Z
UID:10003631-1781258400-1781262000@yogahighlands.com
SUMMARY:Align & Stretch w/ Diane
DESCRIPTION:Align and Stretch is a feel-good yoga class focused on improving posture\, increasing flexibility\, and easing tension.\nSuitable for all levels-come as you are and leave refreshed.
URL:https://yogahighlands.com/cal/align-stretch-w-diane/2026-06-12/
LOCATION:Yoga Highlands Studio\, 460 Carolina Way\, Highlands\, NC\, 28741\, United States
CATEGORIES:Classes
END:VEVENT
BEGIN:VEVENT
DTSTART;TZID=America/New_York:20260619T100000
DTEND;TZID=America/New_York:20260619T110000
DTSTAMP:20260423T114312
CREATED:20260414T001011Z
LAST-MODIFIED:20260414T010936Z
UID:10003632-1781863200-1781866800@yogahighlands.com
SUMMARY:Align & Stretch w/ Diane
DESCRIPTION:Align and Stretch is a feel-good yoga class focused on improving posture\, increasing flexibility\, and easing tension.\nSuitable for all levels-come as you are and leave refreshed.
URL:https://yogahighlands.com/cal/align-stretch-w-diane/2026-06-19/
LOCATION:Yoga Highlands Studio\, 460 Carolina Way\, Highlands\, NC\, 28741\, United States
CATEGORIES:Classes
END:VEVENT
BEGIN:VEVENT
DTSTART;TZID=America/New_York:20260626T100000
DTEND;TZID=America/New_York:20260626T110000
DTSTAMP:20260423T114312
CREATED:20260414T001011Z
LAST-MODIFIED:20260414T010936Z
UID:10003633-1782468000-1782471600@yogahighlands.com
SUMMARY:Align & Stretch w/ Diane
DESCRIPTION:Align and Stretch is a feel-good yoga class focused on improving posture\, increasing flexibility\, and easing tension.\nSuitable for all levels-come as you are and leave refreshed.
URL:https://yogahighlands.com/cal/align-stretch-w-diane/2026-06-26/
LOCATION:Yoga Highlands Studio\, 460 Carolina Way\, Highlands\, NC\, 28741\, United States
CATEGORIES:Classes
END:VEVENT
BEGIN:VEVENT
DTSTART;TZID=America/New_York:20260703T100000
DTEND;TZID=America/New_York:20260703T110000
DTSTAMP:20260423T114312
CREATED:20260414T001011Z
LAST-MODIFIED:20260414T010936Z
UID:10003634-1783072800-1783076400@yogahighlands.com
SUMMARY:Align & Stretch w/ Diane
DESCRIPTION:Align and Stretch is a feel-good yoga class focused on improving posture\, increasing flexibility\, and easing tension.\nSuitable for all levels-come as you are and leave refreshed.
URL:https://yogahighlands.com/cal/align-stretch-w-diane/2026-07-03/
LOCATION:Yoga Highlands Studio\, 460 Carolina Way\, Highlands\, NC\, 28741\, United States
CATEGORIES:Classes
END:VEVENT
BEGIN:VEVENT
DTSTART;TZID=America/New_York:20260710T100000
DTEND;TZID=America/New_York:20260710T110000
DTSTAMP:20260423T114312
CREATED:20260414T001011Z
LAST-MODIFIED:20260414T010936Z
UID:10003635-1783677600-1783681200@yogahighlands.com
SUMMARY:Align & Stretch w/ Diane
DESCRIPTION:Align and Stretch is a feel-good yoga class focused on improving posture\, increasing flexibility\, and easing tension.\nSuitable for all levels-come as you are and leave refreshed.
URL:https://yogahighlands.com/cal/align-stretch-w-diane/2026-07-10/
LOCATION:Yoga Highlands Studio\, 460 Carolina Way\, Highlands\, NC\, 28741\, United States
CATEGORIES:Classes
END:VEVENT
BEGIN:VEVENT
DTSTART;TZID=America/New_York:20260717T100000
DTEND;TZID=America/New_York:20260717T110000
DTSTAMP:20260423T114312
CREATED:20260414T001011Z
LAST-MODIFIED:20260414T010936Z
UID:10003636-1784282400-1784286000@yogahighlands.com
SUMMARY:Align & Stretch w/ Diane
DESCRIPTION:Align and Stretch is a feel-good yoga class focused on improving posture\, increasing flexibility\, and easing tension.\nSuitable for all levels-come as you are and leave refreshed.
URL:https://yogahighlands.com/cal/align-stretch-w-diane/2026-07-17/
LOCATION:Yoga Highlands Studio\, 460 Carolina Way\, Highlands\, NC\, 28741\, United States
CATEGORIES:Classes
END:VEVENT
BEGIN:VEVENT
DTSTART;TZID=America/New_York:20260724T100000
DTEND;TZID=America/New_York:20260724T110000
DTSTAMP:20260423T114312
CREATED:20260414T001011Z
LAST-MODIFIED:20260414T010936Z
UID:10003637-1784887200-1784890800@yogahighlands.com
SUMMARY:Align & Stretch w/ Diane
DESCRIPTION:Align and Stretch is a feel-good yoga class focused on improving posture\, increasing flexibility\, and easing tension.\nSuitable for all levels-come as you are and leave refreshed.
URL:https://yogahighlands.com/cal/align-stretch-w-diane/2026-07-24/
LOCATION:Yoga Highlands Studio\, 460 Carolina Way\, Highlands\, NC\, 28741\, United States
CATEGORIES:Classes
END:VEVENT
BEGIN:VEVENT
DTSTART;TZID=America/New_York:20260731T100000
DTEND;TZID=America/New_York:20260731T110000
DTSTAMP:20260423T114312
CREATED:20260414T001011Z
LAST-MODIFIED:20260414T010936Z
UID:10003638-1785492000-1785495600@yogahighlands.com
SUMMARY:Align & Stretch w/ Diane
DESCRIPTION:Align and Stretch is a feel-good yoga class focused on improving posture\, increasing flexibility\, and easing tension.\nSuitable for all levels-come as you are and leave refreshed.
URL:https://yogahighlands.com/cal/align-stretch-w-diane/2026-07-31/
LOCATION:Yoga Highlands Studio\, 460 Carolina Way\, Highlands\, NC\, 28741\, United States
CATEGORIES:Classes
END:VEVENT
BEGIN:VEVENT
DTSTART;TZID=America/New_York:20260807T100000
DTEND;TZID=America/New_York:20260807T110000
DTSTAMP:20260423T114312
CREATED:20260414T001011Z
LAST-MODIFIED:20260414T010936Z
UID:10003639-1786096800-1786100400@yogahighlands.com
SUMMARY:Align & Stretch w/ Diane
DESCRIPTION:Align and Stretch is a feel-good yoga class focused on improving posture\, increasing flexibility\, and easing tension.\nSuitable for all levels-come as you are and leave refreshed.
URL:https://yogahighlands.com/cal/align-stretch-w-diane/2026-08-07/
LOCATION:Yoga Highlands Studio\, 460 Carolina Way\, Highlands\, NC\, 28741\, United States
CATEGORIES:Classes
END:VEVENT
BEGIN:VEVENT
DTSTART;TZID=America/New_York:20260814T100000
DTEND;TZID=America/New_York:20260814T110000
DTSTAMP:20260423T114312
CREATED:20260414T001011Z
LAST-MODIFIED:20260414T010936Z
UID:10003640-1786701600-1786705200@yogahighlands.com
SUMMARY:Align & Stretch w/ Diane
DESCRIPTION:Align and Stretch is a feel-good yoga class focused on improving posture\, increasing flexibility\, and easing tension.\nSuitable for all levels-come as you are and leave refreshed.
URL:https://yogahighlands.com/cal/align-stretch-w-diane/2026-08-14/
LOCATION:Yoga Highlands Studio\, 460 Carolina Way\, Highlands\, NC\, 28741\, United States
CATEGORIES:Classes
END:VEVENT
BEGIN:VEVENT
DTSTART;TZID=America/New_York:20260821T100000
DTEND;TZID=America/New_York:20260821T110000
DTSTAMP:20260423T114312
CREATED:20260414T001011Z
LAST-MODIFIED:20260414T010936Z
UID:10003641-1787306400-1787310000@yogahighlands.com
SUMMARY:Align & Stretch w/ Diane
DESCRIPTION:Align and Stretch is a feel-good yoga class focused on improving posture\, increasing flexibility\, and easing tension.\nSuitable for all levels-come as you are and leave refreshed.
URL:https://yogahighlands.com/cal/align-stretch-w-diane/2026-08-21/
LOCATION:Yoga Highlands Studio\, 460 Carolina Way\, Highlands\, NC\, 28741\, United States
CATEGORIES:Classes
END:VEVENT
BEGIN:VEVENT
DTSTART;TZID=America/New_York:20260828T100000
DTEND;TZID=America/New_York:20260828T110000
DTSTAMP:20260423T114312
CREATED:20260414T001011Z
LAST-MODIFIED:20260414T010936Z
UID:10003642-1787911200-1787914800@yogahighlands.com
SUMMARY:Align & Stretch w/ Diane
DESCRIPTION:Align and Stretch is a feel-good yoga class focused on improving posture\, increasing flexibility\, and easing tension.\nSuitable for all levels-come as you are and leave refreshed.
URL:https://yogahighlands.com/cal/align-stretch-w-diane/2026-08-28/
LOCATION:Yoga Highlands Studio\, 460 Carolina Way\, Highlands\, NC\, 28741\, United States
CATEGORIES:Classes
END:VEVENT
BEGIN:VEVENT
DTSTART;TZID=America/New_York:20260904T100000
DTEND;TZID=America/New_York:20260904T110000
DTSTAMP:20260423T114312
CREATED:20260414T001011Z
LAST-MODIFIED:20260414T010936Z
UID:10003643-1788516000-1788519600@yogahighlands.com
SUMMARY:Align & Stretch w/ Diane
DESCRIPTION:Align and Stretch is a feel-good yoga class focused on improving posture\, increasing flexibility\, and easing tension.\nSuitable for all levels-come as you are and leave refreshed.
URL:https://yogahighlands.com/cal/align-stretch-w-diane/2026-09-04/
LOCATION:Yoga Highlands Studio\, 460 Carolina Way\, Highlands\, NC\, 28741\, United States
CATEGORIES:Classes
END:VEVENT
BEGIN:VEVENT
DTSTART;TZID=America/New_York:20260911T100000
DTEND;TZID=America/New_York:20260911T110000
DTSTAMP:20260423T114312
CREATED:20260414T001011Z
LAST-MODIFIED:20260414T010936Z
UID:10003644-1789120800-1789124400@yogahighlands.com
SUMMARY:Align & Stretch w/ Diane
DESCRIPTION:Align and Stretch is a feel-good yoga class focused on improving posture\, increasing flexibility\, and easing tension.\nSuitable for all levels-come as you are and leave refreshed.
URL:https://yogahighlands.com/cal/align-stretch-w-diane/2026-09-11/
LOCATION:Yoga Highlands Studio\, 460 Carolina Way\, Highlands\, NC\, 28741\, United States
CATEGORIES:Classes
END:VEVENT
BEGIN:VEVENT
DTSTART;TZID=America/New_York:20260918T100000
DTEND;TZID=America/New_York:20260918T110000
DTSTAMP:20260423T114312
CREATED:20260414T001011Z
LAST-MODIFIED:20260414T010936Z
UID:10003645-1789725600-1789729200@yogahighlands.com
SUMMARY:Align & Stretch w/ Diane
DESCRIPTION:Align and Stretch is a feel-good yoga class focused on improving posture\, increasing flexibility\, and easing tension.\nSuitable for all levels-come as you are and leave refreshed.
URL:https://yogahighlands.com/cal/align-stretch-w-diane/2026-09-18/
LOCATION:Yoga Highlands Studio\, 460 Carolina Way\, Highlands\, NC\, 28741\, United States
CATEGORIES:Classes
END:VEVENT
BEGIN:VEVENT
DTSTART;TZID=America/New_York:20260925T100000
DTEND;TZID=America/New_York:20260925T110000
DTSTAMP:20260423T114312
CREATED:20260414T001011Z
LAST-MODIFIED:20260414T010936Z
UID:10003646-1790330400-1790334000@yogahighlands.com
SUMMARY:Align & Stretch w/ Diane
DESCRIPTION:Align and Stretch is a feel-good yoga class focused on improving posture\, increasing flexibility\, and easing tension.\nSuitable for all levels-come as you are and leave refreshed.
URL:https://yogahighlands.com/cal/align-stretch-w-diane/2026-09-25/
LOCATION:Yoga Highlands Studio\, 460 Carolina Way\, Highlands\, NC\, 28741\, United States
CATEGORIES:Classes
END:VEVENT
BEGIN:VEVENT
DTSTART;TZID=America/New_York:20261002T100000
DTEND;TZID=America/New_York:20261002T110000
DTSTAMP:20260423T114312
CREATED:20260414T001011Z
LAST-MODIFIED:20260414T010936Z
UID:10003647-1790935200-1790938800@yogahighlands.com
SUMMARY:Align & Stretch w/ Diane
DESCRIPTION:Align and Stretch is a feel-good yoga class focused on improving posture\, increasing flexibility\, and easing tension.\nSuitable for all levels-come as you are and leave refreshed.
URL:https://yogahighlands.com/cal/align-stretch-w-diane/2026-10-02/
LOCATION:Yoga Highlands Studio\, 460 Carolina Way\, Highlands\, NC\, 28741\, United States
CATEGORIES:Classes
END:VEVENT
BEGIN:VEVENT
DTSTART;TZID=America/New_York:20261009T100000
DTEND;TZID=America/New_York:20261009T110000
DTSTAMP:20260423T114312
CREATED:20260414T001011Z
LAST-MODIFIED:20260414T010936Z
UID:10003648-1791540000-1791543600@yogahighlands.com
SUMMARY:Align & Stretch w/ Diane
DESCRIPTION:Align and Stretch is a feel-good yoga class focused on improving posture\, increasing flexibility\, and easing tension.\nSuitable for all levels-come as you are and leave refreshed.
URL:https://yogahighlands.com/cal/align-stretch-w-diane/2026-10-09/
LOCATION:Yoga Highlands Studio\, 460 Carolina Way\, Highlands\, NC\, 28741\, United States
CATEGORIES:Classes
END:VEVENT
BEGIN:VEVENT
DTSTART;TZID=America/New_York:20261016T100000
DTEND;TZID=America/New_York:20261016T110000
DTSTAMP:20260423T114312
CREATED:20260414T001011Z
LAST-MODIFIED:20260414T010936Z
UID:10003649-1792144800-1792148400@yogahighlands.com
SUMMARY:Align & Stretch w/ Diane
DESCRIPTION:Align and Stretch is a feel-good yoga class focused on improving posture\, increasing flexibility\, and easing tension.\nSuitable for all levels-come as you are and leave refreshed.
URL:https://yogahighlands.com/cal/align-stretch-w-diane/2026-10-16/
LOCATION:Yoga Highlands Studio\, 460 Carolina Way\, Highlands\, NC\, 28741\, United States
CATEGORIES:Classes
END:VEVENT
BEGIN:VEVENT
DTSTART;TZID=America/New_York:20261023T100000
DTEND;TZID=America/New_York:20261023T110000
DTSTAMP:20260423T114312
CREATED:20260414T001011Z
LAST-MODIFIED:20260414T010936Z
UID:10003650-1792749600-1792753200@yogahighlands.com
SUMMARY:Align & Stretch w/ Diane
DESCRIPTION:Align and Stretch is a feel-good yoga class focused on improving posture\, increasing flexibility\, and easing tension.\nSuitable for all levels-come as you are and leave refreshed.
URL:https://yogahighlands.com/cal/align-stretch-w-diane/2026-10-23/
LOCATION:Yoga Highlands Studio\, 460 Carolina Way\, Highlands\, NC\, 28741\, United States
CATEGORIES:Classes
END:VEVENT
BEGIN:VEVENT
DTSTART;TZID=America/New_York:20261030T100000
DTEND;TZID=America/New_York:20261030T110000
DTSTAMP:20260423T114312
CREATED:20260414T001011Z
LAST-MODIFIED:20260414T010936Z
UID:10003651-1793354400-1793358000@yogahighlands.com
SUMMARY:Align & Stretch w/ Diane
DESCRIPTION:Align and Stretch is a feel-good yoga class focused on improving posture\, increasing flexibility\, and easing tension.\nSuitable for all levels-come as you are and leave refreshed.
URL:https://yogahighlands.com/cal/align-stretch-w-diane/2026-10-30/
LOCATION:Yoga Highlands Studio\, 460 Carolina Way\, Highlands\, NC\, 28741\, United States
CATEGORIES:Classes
END:VEVENT
BEGIN:VEVENT
DTSTART;TZID=America/New_York:20261106T100000
DTEND;TZID=America/New_York:20261106T110000
DTSTAMP:20260423T114312
CREATED:20260414T001011Z
LAST-MODIFIED:20260414T010936Z
UID:10003652-1793959200-1793962800@yogahighlands.com
SUMMARY:Align & Stretch w/ Diane
DESCRIPTION:Align and Stretch is a feel-good yoga class focused on improving posture\, increasing flexibility\, and easing tension.\nSuitable for all levels-come as you are and leave refreshed.
URL:https://yogahighlands.com/cal/align-stretch-w-diane/2026-11-06/
LOCATION:Yoga Highlands Studio\, 460 Carolina Way\, Highlands\, NC\, 28741\, United States
CATEGORIES:Classes
END:VEVENT
BEGIN:VEVENT
DTSTART;TZID=America/New_York:20261113T100000
DTEND;TZID=America/New_York:20261113T110000
DTSTAMP:20260423T114312
CREATED:20260414T001011Z
LAST-MODIFIED:20260414T010936Z
UID:10003653-1794564000-1794567600@yogahighlands.com
SUMMARY:Align & Stretch w/ Diane
DESCRIPTION:Align and Stretch is a feel-good yoga class focused on improving posture\, increasing flexibility\, and easing tension.\nSuitable for all levels-come as you are and leave refreshed.
URL:https://yogahighlands.com/cal/align-stretch-w-diane/2026-11-13/
LOCATION:Yoga Highlands Studio\, 460 Carolina Way\, Highlands\, NC\, 28741\, United States
CATEGORIES:Classes
END:VEVENT
BEGIN:VEVENT
DTSTART;TZID=America/New_York:20261120T100000
DTEND;TZID=America/New_York:20261120T110000
DTSTAMP:20260423T114312
CREATED:20260414T001011Z
LAST-MODIFIED:20260414T010936Z
UID:10003654-1795168800-1795172400@yogahighlands.com
SUMMARY:Align & Stretch w/ Diane
DESCRIPTION:Align and Stretch is a feel-good yoga class focused on improving posture\, increasing flexibility\, and easing tension.\nSuitable for all levels-come as you are and leave refreshed.
URL:https://yogahighlands.com/cal/align-stretch-w-diane/2026-11-20/
LOCATION:Yoga Highlands Studio\, 460 Carolina Way\, Highlands\, NC\, 28741\, United States
CATEGORIES:Classes
END:VEVENT
BEGIN:VEVENT
DTSTART;TZID=America/New_York:20261127T100000
DTEND;TZID=America/New_York:20261127T110000
DTSTAMP:20260423T114312
CREATED:20260414T001011Z
LAST-MODIFIED:20260414T010936Z
UID:10003655-1795773600-1795777200@yogahighlands.com
SUMMARY:Align & Stretch w/ Diane
DESCRIPTION:Align and Stretch is a feel-good yoga class focused on improving posture\, increasing flexibility\, and easing tension.\nSuitable for all levels-come as you are and leave refreshed.
URL:https://yogahighlands.com/cal/align-stretch-w-diane/2026-11-27/
LOCATION:Yoga Highlands Studio\, 460 Carolina Way\, Highlands\, NC\, 28741\, United States
CATEGORIES:Classes
END:VEVENT
END:VCALENDAR