BEGIN:VCALENDAR
VERSION:2.0
PRODID:-//Yoga Highlands Studio - ECPv6.15.17.1//NONSGML v1.0//EN
CALSCALE:GREGORIAN
METHOD:PUBLISH
X-ORIGINAL-URL:https://yogahighlands.com
X-WR-CALDESC:Events for Yoga Highlands Studio
REFRESH-INTERVAL;VALUE=DURATION:PT1H
X-Robots-Tag:noindex
X-PUBLISHED-TTL:PT1H
BEGIN:VTIMEZONE
TZID:America/New_York
BEGIN:DAYLIGHT
TZOFFSETFROM:-0500
TZOFFSETTO:-0400
TZNAME:EDT
DTSTART:20250309T070000
END:DAYLIGHT
BEGIN:STANDARD
TZOFFSETFROM:-0400
TZOFFSETTO:-0500
TZNAME:EST
DTSTART:20251102T060000
END:STANDARD
BEGIN:DAYLIGHT
TZOFFSETFROM:-0500
TZOFFSETTO:-0400
TZNAME:EDT
DTSTART:20260308T070000
END:DAYLIGHT
BEGIN:STANDARD
TZOFFSETFROM:-0400
TZOFFSETTO:-0500
TZNAME:EST
DTSTART:20261101T060000
END:STANDARD
BEGIN:DAYLIGHT
TZOFFSETFROM:-0500
TZOFFSETTO:-0400
TZNAME:EDT
DTSTART:20270314T070000
END:DAYLIGHT
BEGIN:STANDARD
TZOFFSETFROM:-0400
TZOFFSETTO:-0500
TZNAME:EST
DTSTART:20271107T060000
END:STANDARD
END:VTIMEZONE
BEGIN:VEVENT
DTSTART;TZID=America/New_York:20260318T180000
DTEND;TZID=America/New_York:20260318T203000
DTSTAMP:20260423T143301
CREATED:20260212T114440Z
LAST-MODIFIED:20260212T125839Z
UID:10003573-1773856800-1773865800@yogahighlands.com
SUMMARY:Special Event @ Flat Mountain Farm : Enlightenment Soleil : Breathwork and Sound  with Ananda\, Ashby & Dr. Nicholas Demetry
DESCRIPTION:March 18\, 2026\n6 to 8:30pm / $80\nThe Barn @ Flat Mountain Farm \nYoga Highlands presents\nEnlightenment Soleil \nAre you ready to surrender to the natural flow of regeneration that exists around you at all times? Join us for a beautiful evening of authentic Rebirthing Breathwork and an inner dimensional sound journey with Ananda Bologna\, Ashby Underwood\, and Dr. Nicholas Demetry.  The cusp of spring is a potent time for a guided ceremonial experience to bring clarity and new energy to your life creations. \nWe will begin our evening with a circle of connection and movement\, listening for our personal intentions. Ananda will introduce the Breathwork practice. Ashby and Ananda are intuitive Massage Therapists and will gently adjust each person’s body with bolsters to create a supportive space. Rebirthing breathwork may also be practiced sitting in a chair. \nThe Holistic Benefits of Rebirthing Breathwork: \n\n\nRelease and overcome limiting negative thoughts\, traumas\, and beliefs at a cellular level \n\n\nLive a more satisfying life \n\n\nOverall health and energy levels improve \n\n\nBreathing Energy allows us to get rid of huge amounts of stress that we have accumulated for years \n\n\nIncreases intuitive abilities \n\n\nPurifies the physical body \n\n\nRelationships become more conscious and loving \n\n\nDeeper understanding and empathy for yourself and humanity arises \n\n\nHas the power to heal diseases of the mind and the body \n\n\nSpiritual/Cosmic experiences \n\n\nCan heal addictions and the traumas associated with them \n\n\nReleases cycles of depression and anxiety \n\n\nMore aliveness and enthusiasm for Life \n\n\nIt is our mission for Breathwork and Sound to assist your realization of who you are at the core. “Transcendence is a natural function of the human psyche and is deeply needed in humanity in our world today to open our awareness of unity as a human family regardless of racial background\, economic status\, religion\, or gender. Transcendence can lead humanity into the realization that we are many and yet we are one as a human family.” – Nick Demetry \nEnlightenment Soleil is a collaboration of retreat leaders who have been working with these modalities for years in their respective professional practices. Ananda Bologna\, Rebirthing Breathwork Coach and Massage Therapist www.thematrixreleasespecialist.com \, Ashby Underwood\, Breathwork – Movement Teacher and Massage Therapist owner of local studio www.YogaHighlands.com \, and Dr. Nicholas Demetry\, www.thesouldoctor.com Licensed Psychiatrist\, Author and Teacher. \nWe recommend wearing comfortable attire and bringing a yoga mat\, as well as a blanket and/or pillow to help you relax and settle in.
URL:https://yogahighlands.com/cal/special-event-flat-mountain-farm-enlightenment-soleil-breathwork-and-sound-with-ananda-ashby-dr-nicholas-demetry/
LOCATION:Flat Mountain Farm | Highlands\, 1359 Flat Mountain Road\, Highlands\, NC\, 28741
CATEGORIES:Classes
END:VEVENT
END:VCALENDAR